BEGIN:VCALENDAR
VERSION:2.0
PRODID:-//Rosengarten Mannheim - ECPv6.15.20//NONSGML v1.0//EN
CALSCALE:GREGORIAN
METHOD:PUBLISH
X-ORIGINAL-URL:https://www.rosengarten-mannheim.de
X-WR-CALDESC:Veranstaltungen für Rosengarten Mannheim
REFRESH-INTERVAL;VALUE=DURATION:PT1H
X-Robots-Tag:noindex
X-PUBLISHED-TTL:PT1H
BEGIN:VTIMEZONE
TZID:Europe/Berlin
BEGIN:DAYLIGHT
TZOFFSETFROM:+0100
TZOFFSETTO:+0200
TZNAME:CEST
DTSTART:20260329T010000
END:DAYLIGHT
BEGIN:STANDARD
TZOFFSETFROM:+0200
TZOFFSETTO:+0100
TZNAME:CET
DTSTART:20261025T010000
END:STANDARD
BEGIN:DAYLIGHT
TZOFFSETFROM:+0100
TZOFFSETTO:+0200
TZNAME:CEST
DTSTART:20270328T010000
END:DAYLIGHT
BEGIN:STANDARD
TZOFFSETFROM:+0200
TZOFFSETTO:+0100
TZNAME:CET
DTSTART:20271031T010000
END:STANDARD
BEGIN:DAYLIGHT
TZOFFSETFROM:+0100
TZOFFSETTO:+0200
TZNAME:CEST
DTSTART:20280326T010000
END:DAYLIGHT
BEGIN:STANDARD
TZOFFSETFROM:+0200
TZOFFSETTO:+0100
TZNAME:CET
DTSTART:20281029T010000
END:STANDARD
END:VTIMEZONE
BEGIN:VEVENT
DTSTART;TZID=Europe/Berlin:20270213T200000
DTEND;TZID=Europe/Berlin:20270213T200000
DTSTAMP:20260425T211129
CREATED:20260224T112446Z
LAST-MODIFIED:20260224T112452Z
UID:10000484-1802548800-1802548800@www.rosengarten-mannheim.de
SUMMARY:PAUL PANZER Schöne neue Welt – Welcome to Hell
DESCRIPTION:Gerade noch die Apokalypse überlebt\, finden wir uns wieder in Paul Panzers „SCHÖNE NEUE WELT“\,\ndem brandneuen Abenteuer vom Meister des feinsinnigen Humors. Paul wäre nicht Paul\, würde er\nnicht die Fassaden des Scheinbaren einreißen\, um uns zu zeigen\, wo wir als Menschheit wirklich\nstehen: … willkommen in der Hölle. \nDer große äußere Reichtum einerseits und eine um sich greifende innere Leere\, künstliche Intelligenz\,\nKryptowelten\, virtuelle Partnersuche und der unstillbare Hunger menschlicher Bedürfnisse\, machen\nHerrn Panzer einmal mehr zum Sisyphos der modernen Welt. Für unseren Paul das Dilemma seines\nLebens\, für die Zuschauer…der größte Spaß des Jahres
URL:https://www.rosengarten-mannheim.de/veranstaltung/paul-panzer-schoene-neue-welt-welcome-to-hell-2
LOCATION:Wolfgang Amadeus Mozart Saal\, Rosengartenplatz 2\, Mannheim\, 68161\, Germany
CATEGORIES:Kulturveranstaltung
ATTACH;FMTTYPE=image/jpeg:https://www.rosengarten-mannheim.de/wp-content/uploads/2026/02/Pressebild_PaulPanzer_Schoene-neue-Welt_c-publiks-e1771932234504.jpg
ORGANIZER;CN="S-PROMOTION Event GmbH":MAILTO:info@s-promotion.de
END:VEVENT
END:VCALENDAR