BEGIN:VCALENDAR
VERSION:2.0
PRODID:-//Rosengarten Mannheim - ECPv6.15.20//NONSGML v1.0//EN
CALSCALE:GREGORIAN
METHOD:PUBLISH
X-ORIGINAL-URL:https://www.rosengarten-mannheim.de
X-WR-CALDESC:Veranstaltungen für Rosengarten Mannheim
REFRESH-INTERVAL;VALUE=DURATION:PT1H
X-Robots-Tag:noindex
X-PUBLISHED-TTL:PT1H
BEGIN:VTIMEZONE
TZID:Europe/Berlin
BEGIN:DAYLIGHT
TZOFFSETFROM:+0100
TZOFFSETTO:+0200
TZNAME:CEST
DTSTART:20250330T010000
END:DAYLIGHT
BEGIN:STANDARD
TZOFFSETFROM:+0200
TZOFFSETTO:+0100
TZNAME:CET
DTSTART:20251026T010000
END:STANDARD
BEGIN:DAYLIGHT
TZOFFSETFROM:+0100
TZOFFSETTO:+0200
TZNAME:CEST
DTSTART:20260329T010000
END:DAYLIGHT
BEGIN:STANDARD
TZOFFSETFROM:+0200
TZOFFSETTO:+0100
TZNAME:CET
DTSTART:20261025T010000
END:STANDARD
BEGIN:DAYLIGHT
TZOFFSETFROM:+0100
TZOFFSETTO:+0200
TZNAME:CEST
DTSTART:20270328T010000
END:DAYLIGHT
BEGIN:STANDARD
TZOFFSETFROM:+0200
TZOFFSETTO:+0100
TZNAME:CET
DTSTART:20271031T010000
END:STANDARD
END:VTIMEZONE
BEGIN:VEVENT
DTSTART;TZID=Europe/Berlin:20260108T160000
DTEND;TZID=Europe/Berlin:20260108T160000
DTSTAMP:20260419T191109
CREATED:20250915T133911Z
LAST-MODIFIED:20251208T074117Z
UID:10000428-1767888000-1767888000@www.rosengarten-mannheim.de
SUMMARY:Schwanensee - Das Ballettmärchen für die ganze Familie
DESCRIPTION:Ein böser Zauberer hat die schöne junge Prinzessin Odette in einen Schwan verwandelt\, als diese sich zu nahe an das Ufer seines Sees heranwagte. In der Nähe des Sees liegt ein altes Schloss\, wo eine schöne Fürstin mit ihrem Sohn Siegfried lebt. Prinz Siegfried fühlt sich von den wunderschönen Schwänen im See magisch angezogen. Er ahnt nicht\, dass es in Wirklichkeit junge Mädchen sind\, die alle durch den bösen Zauberer in Schwäne verwandelt wurden\, und die immer um Mitternacht für eine Stunde menschliche Gestalt annehmen. Prinz Siegfried verliebt sich in die Prinzessin Odette und erfährt von ihr das Geheimnis ihrer Verwandlung\, und dass sie nur durch die Liebe und Treue eines Mannes von dem Zauber erlöst werden kann…\n\nSo beginnt das wunderschöne Märchen des Schwanensee\, des am meisten geliebten Ballettklassikers von Pjotr Tschaikowski. Schwanensee ist das populärste Ballett überhaupt. Für viele ist es ein Synonym für Ballett geworden. Darüber hinaus zählt die Musik zu Schwanensee zu den schönsten Ballettpartituren schlechthin. Hier kommt nun eine ganz besondere\, wunderschöne Version dieses Ballettklassikers für alle Kinder im Alter von 4 bis 94 Jahren auf die Bühne\, für Kinder geschaffen\, doch keineswegs kindisch! Die liebevolle Vorstellung wird erstmals vom Prager Festspiel Ballett anspruchsvoll und mit großer Eleganz getanzt. Farbenfrohe Kostüme und ein fantasievolles Bühnenbild versprechen jedes Kinderherz zu verzaubern. Die Geschichte wird dem Zuschauer durch die charismatische Schauspielerin Melinda Thompson als Erzählerin nahe gebracht\, die mit eingängigen kleinen Gedichten voller Witz\, Charme und Liebe Jung und Alt in den Bann zieht.\nDas Prager Festspiel Ballett mit Solisten führender Prager Opernhäuser entführt in das Wunderland des Verspielten und Romantischen\, Märchenhaften und Träumerischen\, das Teil eines jeden Kindertraums sein sollte! Choreographin ist die begabte junge Tänzerin Pavla Červčiková – ihre völlig neue Choreographie bleibt ganz im traditionellen Stil des berühmten ersten Choreographen des Schwanensees\, Marius Petipa\, der allgemein als Vater des klassischen Balletts gilt.
URL:https://www.rosengarten-mannheim.de/veranstaltung/schwanensee-das-ballettmaerchen-fuer-die-ganze-familie
LOCATION:Mu­sen­saal\, Rosengartenplatz 2\, Mannheim\, 68161\, Germany
CATEGORIES:Kulturveranstaltung
ATTACH;FMTTYPE=image/webp:https://www.rosengarten-mannheim.de/wp-content/uploads/2024/02/veranstaltungen-rosen-garten-header.webp
ORGANIZER;CN="Go 2- Convent GmbH":MAILTO:info@go-2.eu
END:VEVENT
END:VCALENDAR