BEGIN:VCALENDAR
VERSION:2.0
PRODID:-//Rosengarten Mannheim - ECPv6.15.20//NONSGML v1.0//EN
CALSCALE:GREGORIAN
METHOD:PUBLISH
X-ORIGINAL-URL:https://www.rosengarten-mannheim.de
X-WR-CALDESC:Veranstaltungen für Rosengarten Mannheim
REFRESH-INTERVAL;VALUE=DURATION:PT1H
X-Robots-Tag:noindex
X-PUBLISHED-TTL:PT1H
BEGIN:VTIMEZONE
TZID:Europe/Berlin
BEGIN:DAYLIGHT
TZOFFSETFROM:+0100
TZOFFSETTO:+0200
TZNAME:CEST
DTSTART:20240331T010000
END:DAYLIGHT
BEGIN:STANDARD
TZOFFSETFROM:+0200
TZOFFSETTO:+0100
TZNAME:CET
DTSTART:20241027T010000
END:STANDARD
BEGIN:DAYLIGHT
TZOFFSETFROM:+0100
TZOFFSETTO:+0200
TZNAME:CEST
DTSTART:20250330T010000
END:DAYLIGHT
BEGIN:STANDARD
TZOFFSETFROM:+0200
TZOFFSETTO:+0100
TZNAME:CET
DTSTART:20251026T010000
END:STANDARD
BEGIN:DAYLIGHT
TZOFFSETFROM:+0100
TZOFFSETTO:+0200
TZNAME:CEST
DTSTART:20260329T010000
END:DAYLIGHT
BEGIN:STANDARD
TZOFFSETFROM:+0200
TZOFFSETTO:+0100
TZNAME:CET
DTSTART:20261025T010000
END:STANDARD
END:VTIMEZONE
BEGIN:VEVENT
DTSTART;TZID=Europe/Berlin:20251114T190000
DTEND;TZID=Europe/Berlin:20251114T190000
DTSTAMP:20260425T193758
CREATED:20250710T111611Z
LAST-MODIFIED:20250711T074156Z
UID:10000354-1763146800-1763146800@www.rosengarten-mannheim.de
SUMMARY:Gastkonzert „Mannheim“ (Österreichisch-Ungarische Monarchie) SWR Abokonzert 2 Deutsche-Radio-Philharmonie
DESCRIPTION:Antonín Dvořák\n»In der Natur«\, Konzertouvertüre op. 91 \nJosef Suk\nFantasie für Violine und Orchester g-Moll op. 24 \nLeoš Janáček\n»Des Spielmanns Kind«\, Ballade für Violine und Orchester \nBéla Bartók\nKonzert für Orchester \n\nBartóks Konzert für Orchester ist ein Meisterwerk voller Schmerz\, Sehnsucht und Hoffnung\, eine Beschwörung der Heimat und des Lebens\, komponiert von einem Schwerkranken. Von Leben und Tod handelt auch »Des Spielmanns Kind«. Janáček erzählt darin die Geschichte eines armen Dorfgeigers\, der aus dem Jenseits zurückkehrt und sein Kind mitnimmt\, damit es auf Erden kein Elend leiden muss. Weitaus heiterer dagegen Dvořáks »In der Natur« und die Fantasie seines Schwiegersohns Josef Suk: Hirtenmusik\, Vogelgezwitscher und Jodelklänge einerseits\, ein verkapptes\, lyrisch zartes Virtuosenkonzert mit typisch böhmischen Zügen andererseits.\nDieses Konzert ist Teil der Programmlinie »Die Welt von Gestern«. \n\n\n\n\n\nKonzerteinführung 18.00 Uhr \nSWR Abokonzert 2
URL:https://www.rosengarten-mannheim.de/veranstaltung/gastkonzert-mannheim-oesterreichisch-ungarische-monarchie
LOCATION:Wolfgang Amadeus Mozart Saal\, Rosengartenplatz 2\, Mannheim\, 68161\, Germany
CATEGORIES:Kulturveranstaltung
ATTACH;FMTTYPE=image/jpeg:https://www.rosengarten-mannheim.de/wp-content/uploads/2025/07/orchesterportrait-25-26_lena-semmelroggen100_v-sr__169__1000.jpg
ORGANIZER;CN="Deutsche Radio Philharmonie Kaiserslautern Saarbr%C3%BCcken":MAILTO:info@drp-orchester.de
END:VEVENT
END:VCALENDAR