BEGIN:VCALENDAR
VERSION:2.0
PRODID:-//Rosengarten Mannheim - ECPv6.15.20//NONSGML v1.0//EN
CALSCALE:GREGORIAN
METHOD:PUBLISH
X-ORIGINAL-URL:https://www.rosengarten-mannheim.de
X-WR-CALDESC:Veranstaltungen für Rosengarten Mannheim
REFRESH-INTERVAL;VALUE=DURATION:PT1H
X-Robots-Tag:noindex
X-PUBLISHED-TTL:PT1H
BEGIN:VTIMEZONE
TZID:Europe/Berlin
BEGIN:DAYLIGHT
TZOFFSETFROM:+0100
TZOFFSETTO:+0200
TZNAME:CEST
DTSTART:20240331T010000
END:DAYLIGHT
BEGIN:STANDARD
TZOFFSETFROM:+0200
TZOFFSETTO:+0100
TZNAME:CET
DTSTART:20241027T010000
END:STANDARD
BEGIN:DAYLIGHT
TZOFFSETFROM:+0100
TZOFFSETTO:+0200
TZNAME:CEST
DTSTART:20250330T010000
END:DAYLIGHT
BEGIN:STANDARD
TZOFFSETFROM:+0200
TZOFFSETTO:+0100
TZNAME:CET
DTSTART:20251026T010000
END:STANDARD
BEGIN:DAYLIGHT
TZOFFSETFROM:+0100
TZOFFSETTO:+0200
TZNAME:CEST
DTSTART:20260329T010000
END:DAYLIGHT
BEGIN:STANDARD
TZOFFSETFROM:+0200
TZOFFSETTO:+0100
TZNAME:CET
DTSTART:20261025T010000
END:STANDARD
END:VTIMEZONE
BEGIN:VEVENT
DTSTART;TZID=Europe/Berlin:20251012T190000
DTEND;TZID=Europe/Berlin:20251012T190000
DTSTAMP:20260420T160028
CREATED:20250904T123337Z
LAST-MODIFIED:20250904T123337Z
UID:10000420-1760295600-1760295600@www.rosengarten-mannheim.de
SUMMARY:Staatliche Hochschule für Musik und Darstellende Kunst Mannheim: Konzert im Rosengarten Mannheim
DESCRIPTION:Solisten und Sinfonieorchester der Musikhochschule Mannheim\nLeitung: Stefan Blunier \n\n\nPrüfungen im Studiengang Solistische Ausbildung von\nFrancesco Mardegan\, Violine\n(Klasse Prof. Marco Rizzi)\nWanxin Mu\, Mezzosopran\n(Klasse Prof. Timothy Sharp) \n\n\n\n\n\nKarol Szymanowski:  Violinkonzert Nr. 1\, op. 35\nMaurice Ravel: Shéhérazade für Mezzosopran und Orchester\nPaul Dukas: Der Zauberlehrling\nRichard Strauss: Till Eulenspiegels lustige Streiche \n\n\nEintritt: Eintritt frei
URL:https://www.rosengarten-mannheim.de/veranstaltung/staatliche-hochschule-fuer-musik-und-darstellende-kunst-mannheim-konzert-im-rosengarten-mannheim
LOCATION:Mu­sen­saal\, Rosengartenplatz 2\, Mannheim\, 68161\, Germany
CATEGORIES:Kulturveranstaltung
ATTACH;FMTTYPE=image/webp:https://www.rosengarten-mannheim.de/wp-content/uploads/2023/11/location-cc-rosengarten.webp
ORGANIZER;CN="Staatliche Hochschule f%C3%BCr Musik und Darstellende Kunst Mannheim":MAILTO:feedback@muho-mannheim.de
END:VEVENT
END:VCALENDAR