BEGIN:VCALENDAR
VERSION:2.0
PRODID:-//Rosengarten Mannheim - ECPv6.15.20//NONSGML v1.0//EN
CALSCALE:GREGORIAN
METHOD:PUBLISH
X-WR-CALNAME:Rosengarten Mannheim
X-ORIGINAL-URL:https://www.rosengarten-mannheim.de
X-WR-CALDESC:Veranstaltungen für Rosengarten Mannheim
REFRESH-INTERVAL;VALUE=DURATION:PT1H
X-Robots-Tag:noindex
X-PUBLISHED-TTL:PT1H
BEGIN:VTIMEZONE
TZID:Europe/Berlin
BEGIN:DAYLIGHT
TZOFFSETFROM:+0100
TZOFFSETTO:+0200
TZNAME:CEST
DTSTART:20260329T010000
END:DAYLIGHT
BEGIN:STANDARD
TZOFFSETFROM:+0200
TZOFFSETTO:+0100
TZNAME:CET
DTSTART:20261025T010000
END:STANDARD
BEGIN:DAYLIGHT
TZOFFSETFROM:+0100
TZOFFSETTO:+0200
TZNAME:CEST
DTSTART:20270328T010000
END:DAYLIGHT
BEGIN:STANDARD
TZOFFSETFROM:+0200
TZOFFSETTO:+0100
TZNAME:CET
DTSTART:20271031T010000
END:STANDARD
BEGIN:DAYLIGHT
TZOFFSETFROM:+0100
TZOFFSETTO:+0200
TZNAME:CEST
DTSTART:20280326T010000
END:DAYLIGHT
BEGIN:STANDARD
TZOFFSETFROM:+0200
TZOFFSETTO:+0100
TZNAME:CET
DTSTART:20281029T010000
END:STANDARD
END:VTIMEZONE
BEGIN:VEVENT
DTSTART;TZID=Europe/Berlin:20270108T200000
DTEND;TZID=Europe/Berlin:20270108T200000
DTSTAMP:20260425T203431
CREATED:20260416T090043Z
LAST-MODIFIED:20260416T095013Z
UID:10000525-1799438400-1799438400@www.rosengarten-mannheim.de
SUMMARY:Das Phantom der Oper - Die Originalproduktion von Sasson/Sautter
DESCRIPTION:Die Originalproduktion von Sasson/Sautter mit Deborah Sasson und Uwe Kröger \nDas Phantom der Oper – Ein Musicalerlebnis der Extraklasse!\nSpektakulär\, atemberaubend\, einzigartig – Das Phantom der Oper in der Originalproduktion von Sasson/Sautter setzt neue Maßstäbe! Ausgezeichnet mit der renommierten „Goldenen Sonne 2023“ von Sonnenklar TV als bestes Musical\, begeistert diese Inszenierung Publikum und Kritiker gleichermaßen. \nDie Stars\, die das Publikum verzaubern\nDie gefeierte Bostoner Sopranistin und Echo Klassik Preisträgerin Deborah Sasson brilliert mit ihrer facettenreichen und kraftvollen Stimme – die perfekte Mischung aus Oper und Musical. An ihrer Seite: Deutschlands Musicalstar Nummer 1\, Uwe Kröger. Seit seinem Durchbruch als ‚Tod‘ in der Welturaufführung von Elisabeth begeistert er Millionen. Nun übernimmt er die Rolle des mysteriösen und zerrissenen Phantoms – eine Darstellung\, die das Publikum in ihren Bann zieht. \nEin Bühnenbild\, das Maßstäbe setzt\nNicht nur die Darsteller\, sondern auch die beeindruckende Szenerie sorgt für Gänsehaut! Das spektakuläre Bühnenbild lebt von der perfekten Verbindung aus grandiosen\, dreidimensionalen Videoprojektionen des international gefeierten Multimediakünstlers Daniel Stryjecki und den atemberaubenden Bühnenkonstruktionen von Michael Scott\, dem berühmten Bühnenbildner der Metropolitan Opera in New York. \nEin unvergessliches Musicalerlebnis\nMit einer mitreißenden Mischung aus fesselnder Musik\, packendem Schauspiel und spektakulärer Bühnenkunst ist Das Phantom der Oper – Die Originalproduktion von Sasson/Sautter weit mehr als nur ein Musical – es ist ein Erlebnis\, das man nicht verpassen darf! Tauchen Sie ein in eine Welt voller Leidenschaft\, Dramatik und unvergesslicher Melodien!\nEin echtes Musical-Highlight!
URL:https://www.rosengarten-mannheim.de/veranstaltung/das-phantom-der-oper-die-originalproduktion-von-sasson-sautter
LOCATION:Wolfgang Amadeus Mozart Saal\, Rosengartenplatz 2\, Mannheim\, 68161\, Germany
CATEGORIES:Kulturveranstaltung
ATTACH;FMTTYPE=image/jpeg:https://www.rosengarten-mannheim.de/wp-content/uploads/2025/05/DeborahSassonUweKroeger_Farideh_Diehl.jpg
ORGANIZER;CN="S-PROMOTION Event GmbH":MAILTO:info@s-promotion.de
END:VEVENT
END:VCALENDAR