BEGIN:VCALENDAR
VERSION:2.0
PRODID:-//Rosengarten Mannheim - ECPv6.15.20//NONSGML v1.0//EN
CALSCALE:GREGORIAN
METHOD:PUBLISH
X-WR-CALNAME:Rosengarten Mannheim
X-ORIGINAL-URL:https://www.rosengarten-mannheim.de
X-WR-CALDESC:Veranstaltungen für Rosengarten Mannheim
REFRESH-INTERVAL;VALUE=DURATION:PT1H
X-Robots-Tag:noindex
X-PUBLISHED-TTL:PT1H
BEGIN:VTIMEZONE
TZID:Europe/Berlin
BEGIN:DAYLIGHT
TZOFFSETFROM:+0100
TZOFFSETTO:+0200
TZNAME:CEST
DTSTART:20240331T010000
END:DAYLIGHT
BEGIN:STANDARD
TZOFFSETFROM:+0200
TZOFFSETTO:+0100
TZNAME:CET
DTSTART:20241027T010000
END:STANDARD
BEGIN:DAYLIGHT
TZOFFSETFROM:+0100
TZOFFSETTO:+0200
TZNAME:CEST
DTSTART:20250330T010000
END:DAYLIGHT
BEGIN:STANDARD
TZOFFSETFROM:+0200
TZOFFSETTO:+0100
TZNAME:CET
DTSTART:20251026T010000
END:STANDARD
BEGIN:DAYLIGHT
TZOFFSETFROM:+0100
TZOFFSETTO:+0200
TZNAME:CEST
DTSTART:20260329T010000
END:DAYLIGHT
BEGIN:STANDARD
TZOFFSETFROM:+0200
TZOFFSETTO:+0100
TZNAME:CET
DTSTART:20261025T010000
END:STANDARD
END:VTIMEZONE
BEGIN:VEVENT
DTSTART;TZID=Europe/Berlin:20251204T200000
DTEND;TZID=Europe/Berlin:20251204T200000
DTSTAMP:20260420T190838
CREATED:20250612T085027Z
LAST-MODIFIED:20250616T092610Z
UID:10000330-1764878400-1764878400@www.rosengarten-mannheim.de
SUMMARY:Khatia Buniatishvili - Klavierabend
DESCRIPTION:Das PROGRAMM wird zu einem späteren Zeitpunkt bekannt gegeben. \nKhatia Buniatishvili ist ein Phänomen\, sie vereint alles: glamouröse Erscheinung\, herausragende Begabung\, tiefen künstlerischen Ernst – und begeistert damit ihr Publikum weltweit. Die georgische Star-Pianistin galt als Wunderkind und hat bereits früh die Musikszene erobert. „Ich möchte meine Liebe zur klassischen Musik teilen. Das ist meine Botschaft“\, sagt Khatia Buniatishvili. Ihre Auftritte sind von elektrisierender Intensität geprägt – bei ihr verschmelzen Klang und Körpersprache zu einem Ausdruck reiner Leidenschaft. „Ich spiele jedes Konzert\, als wäre es mein letztes“\, sagt sie – und genau das ist in jedem Ton spürbar. Leidenschaft\, Sinnlichkeit und eine trancehafte Versunkenheit in die Musik prägen ihre Auftritte – jedes Konzert ist ein Gesamtkunstwerk. Ihre brillante Tastensicherheit erlaubt es ihr\, sich funkelnd unberechenbar und mit vollem Risiko dem emotionalen Rausch der Musik hinzugeben. Sie dirigiert mit\, bewegt sich im Rhythmus\, zeigt Schmerz\, Freude und Ekstase. Sie wagt die pianistische Grenzüberschreitung und spielt auf volles Risiko. \nDie mehrfache ECHO-Klassik-Preisträgerin Khatia Buniatishvili gilt als Individualistin par excellence – Freiheit ist für die georgisch-französische Pianistin das höchste Gut. Dazu gehört auch\, sich nicht Jahre im Voraus auf Programme festzulegen. Ihre Programme sind handverlesen – jeder Ton ist durchdrungen von persönlicher Bedeutung. Für Buniatishvili ist die Partitur weit mehr als ein Notentext – sie versteht sie als Liebesbrief\, als intimen Dialog zwischen Komponist und Interpret. Mit feinem Gespür\, Intuition und emotionaler Intelligenz gestaltet sie ihre Programme – stets individuell und authentisch. Freuen Sie sich auf die Klaviervirtuosin\, die sich in jedem Ton offenbart – und auf einen Klavierabend voller Intensität\, Sinnlichkeit und klanglicher Brillanz: ein musikalisches Feuerwerk am Klavier. \nFoto (c) Esther Haase
URL:https://www.rosengarten-mannheim.de/veranstaltung/khatia-buniatishvili-klavierabend-2
LOCATION:Wolfgang Amadeus Mozart Saal\, Rosengartenplatz 2\, Mannheim\, 68161\, Germany
CATEGORIES:Kulturveranstaltung
ATTACH;FMTTYPE=image/jpeg:https://www.rosengarten-mannheim.de/wp-content/uploads/2025/06/csm_Buni1__2__b481d33c96.jpg
ORGANIZER;CN="Pro Arte Konzert GmbH":MAILTO:info@pro-arte-konzerte.de
END:VEVENT
END:VCALENDAR