BEGIN:VCALENDAR
VERSION:2.0
PRODID:-//Rosengarten Mannheim - ECPv6.15.20//NONSGML v1.0//EN
CALSCALE:GREGORIAN
METHOD:PUBLISH
X-WR-CALNAME:Rosengarten Mannheim
X-ORIGINAL-URL:https://www.rosengarten-mannheim.de
X-WR-CALDESC:Veranstaltungen für Rosengarten Mannheim
REFRESH-INTERVAL;VALUE=DURATION:PT1H
X-Robots-Tag:noindex
X-PUBLISHED-TTL:PT1H
BEGIN:VTIMEZONE
TZID:Europe/Berlin
BEGIN:DAYLIGHT
TZOFFSETFROM:+0100
TZOFFSETTO:+0200
TZNAME:CEST
DTSTART:20250330T010000
END:DAYLIGHT
BEGIN:STANDARD
TZOFFSETFROM:+0200
TZOFFSETTO:+0100
TZNAME:CET
DTSTART:20251026T010000
END:STANDARD
BEGIN:DAYLIGHT
TZOFFSETFROM:+0100
TZOFFSETTO:+0200
TZNAME:CEST
DTSTART:20260329T010000
END:DAYLIGHT
BEGIN:STANDARD
TZOFFSETFROM:+0200
TZOFFSETTO:+0100
TZNAME:CET
DTSTART:20261025T010000
END:STANDARD
BEGIN:DAYLIGHT
TZOFFSETFROM:+0100
TZOFFSETTO:+0200
TZNAME:CEST
DTSTART:20270328T010000
END:DAYLIGHT
BEGIN:STANDARD
TZOFFSETFROM:+0200
TZOFFSETTO:+0100
TZNAME:CET
DTSTART:20271031T010000
END:STANDARD
END:VTIMEZONE
BEGIN:VEVENT
DTSTART;TZID=Europe/Berlin:20260131T191100
DTEND;TZID=Europe/Berlin:20260131T191100
DTSTAMP:20260420T104116
CREATED:20250915T131402Z
LAST-MODIFIED:20260120T084233Z
UID:10000426-1769886660-1769886660@www.rosengarten-mannheim.de
SUMMARY:Große FEUERIO-Prunksitzung 2026
DESCRIPTION:Wenn der älteste Fasnachtsverein Mannheims zur Großen Prunksitzung lädt\, heißt es wieder: Humor\, Tanz & Musik auf höchstem Niveau – mitten im Herzen der Kurpfalz! \nErlebe einen unvergesslichen Abend voller Witz\, Tradition und mitreißender Showacts – von urkomischer Bütt bis zu meisterhaftem Gardetanz. \n\n💥 Das Programm 2026\n🎤 Humor & Bütt \n\nRene Böschinger – der beliebte Büttenredner aus der Region\nAlexander Fleck – der Protokoller mit pointiertem Jahresrückblick\nAndreas Knecht – Bauchrednerkunst auf höchstem Niveau – dieses Mal aber klassisch in der Bütt‘\n\n🎶 Musik & Stimmung \n\nStimmalarm – die Partyband mit absoluter Live-Energie\nNaSte – mitreißende Powerstimme aus der Metropolregion\nJoachim Schäfer – das legendäre Bloomaul und Alleinunterhalter\n\n💃 Tanz & Leidenschaft \n\nDie Tanzgarden des FEUERIO Mannheim – seit Jahrzehnten auf Topniveau\, mit amtierenden Deutschen Meistern im karnevalistischen Tanzsport!\n\n🎧 Aftershow \n\nFeiere weiter bei der legendären Aftershow-Party mit DJ Werner Dais\, DJ Fantasy DoMe und DJ Andy – bis die Sonne aufgeht!
URL:https://www.rosengarten-mannheim.de/veranstaltung/prunksitzung-des-feurio
LOCATION:Congress Center Rosengarten\, Rosengartenplatz 2\, Mannheim\, 68161\, Deutschland
CATEGORIES:Kulturveranstaltung
ATTACH;FMTTYPE=image/webp:https://www.rosengarten-mannheim.de/wp-content/uploads/2024/02/veranstaltungen-rosen-garten-header.webp
END:VEVENT
END:VCALENDAR