BEGIN:VCALENDAR
VERSION:2.0
PRODID:-//Rosengarten Mannheim - ECPv6.15.20//NONSGML v1.0//EN
CALSCALE:GREGORIAN
METHOD:PUBLISH
X-ORIGINAL-URL:https://www.rosengarten-mannheim.de
X-WR-CALDESC:Veranstaltungen für Rosengarten Mannheim
REFRESH-INTERVAL;VALUE=DURATION:PT1H
X-Robots-Tag:noindex
X-PUBLISHED-TTL:PT1H
BEGIN:VTIMEZONE
TZID:Europe/Berlin
BEGIN:DAYLIGHT
TZOFFSETFROM:+0100
TZOFFSETTO:+0200
TZNAME:CEST
DTSTART:20240331T010000
END:DAYLIGHT
BEGIN:STANDARD
TZOFFSETFROM:+0200
TZOFFSETTO:+0100
TZNAME:CET
DTSTART:20241027T010000
END:STANDARD
BEGIN:DAYLIGHT
TZOFFSETFROM:+0100
TZOFFSETTO:+0200
TZNAME:CEST
DTSTART:20250330T010000
END:DAYLIGHT
BEGIN:STANDARD
TZOFFSETFROM:+0200
TZOFFSETTO:+0100
TZNAME:CET
DTSTART:20251026T010000
END:STANDARD
BEGIN:DAYLIGHT
TZOFFSETFROM:+0100
TZOFFSETTO:+0200
TZNAME:CEST
DTSTART:20260329T010000
END:DAYLIGHT
BEGIN:STANDARD
TZOFFSETFROM:+0200
TZOFFSETTO:+0100
TZNAME:CET
DTSTART:20261025T010000
END:STANDARD
END:VTIMEZONE
BEGIN:VEVENT
DTSTART;TZID=Europe/Berlin:20251207T200000
DTEND;TZID=Europe/Berlin:20251207T200000
DTSTAMP:20260425T141324
CREATED:20241009T115139Z
LAST-MODIFIED:20241009T115206Z
UID:10000210-1765137600-1765137600@www.rosengarten-mannheim.de
SUMMARY:Alexander Stevens & Constantin Schreiber: Angeklagt – Schuldig oder nicht?
DESCRIPTION:Auf der Bühne diskutieren Stevens und Schreiber echte und aktuelle Fälle – tatsächlich geschehene Verbrechen mit überraschenden Wendungen\, geheimnisvollen Indizien und verrückten Motiven. \nDr. Alexander Stevens ist seit Jahren als Strafverteidiger mit einigen der Aufsehenerregendsten Fälle befasst und juristischer Experte einer der erfolgreichsten „True-Crime“-Podcasts Deutschlands. Was aber viele nicht wissen: Constantin Schreiber ist ebenfalls Jurist mit einer großen Leidenschaft für das Strafrecht. Gemeinsam wollen sie herausfinden: Schuldig oder nicht? Ab Ende Mai sind sie u.a. in Hannover\, Stuttgart\, Düsseldorf\, Mannheim\, München und Nürnberg auf Tour. Ein Abend mit ihnen: klug\, spannend und richtig unterhaltsam.
URL:https://www.rosengarten-mannheim.de/veranstaltung/alexander-stevens-constantin-schreiber-angeklagt-schuldig-oder-nicht
LOCATION:Mu­sen­saal\, Rosengartenplatz 2\, Mannheim\, 68161\, Germany
CATEGORIES:Kulturveranstaltung
ATTACH;FMTTYPE=image/jpeg:https://www.rosengarten-mannheim.de/wp-content/uploads/2024/10/Pressefoto_Schreiber-Stevens-c-Saskia-Allers.jpg
ORGANIZER;CN="Konzertb%C3%BCro Augsburg GmbH":MAILTO:info@konzertbuero-augsburg.de
END:VEVENT
END:VCALENDAR