BEGIN:VCALENDAR
VERSION:2.0
PRODID:-//Rosengarten Mannheim - ECPv6.15.20//NONSGML v1.0//EN
CALSCALE:GREGORIAN
METHOD:PUBLISH
X-ORIGINAL-URL:https://www.rosengarten-mannheim.de
X-WR-CALDESC:Veranstaltungen für Rosengarten Mannheim
REFRESH-INTERVAL;VALUE=DURATION:PT1H
X-Robots-Tag:noindex
X-PUBLISHED-TTL:PT1H
BEGIN:VTIMEZONE
TZID:Europe/Berlin
BEGIN:DAYLIGHT
TZOFFSETFROM:+0100
TZOFFSETTO:+0200
TZNAME:CEST
DTSTART:20230326T010000
END:DAYLIGHT
BEGIN:STANDARD
TZOFFSETFROM:+0200
TZOFFSETTO:+0100
TZNAME:CET
DTSTART:20231029T010000
END:STANDARD
BEGIN:DAYLIGHT
TZOFFSETFROM:+0100
TZOFFSETTO:+0200
TZNAME:CEST
DTSTART:20240331T010000
END:DAYLIGHT
BEGIN:STANDARD
TZOFFSETFROM:+0200
TZOFFSETTO:+0100
TZNAME:CET
DTSTART:20241027T010000
END:STANDARD
BEGIN:DAYLIGHT
TZOFFSETFROM:+0100
TZOFFSETTO:+0200
TZNAME:CEST
DTSTART:20250330T010000
END:DAYLIGHT
BEGIN:STANDARD
TZOFFSETFROM:+0200
TZOFFSETTO:+0100
TZNAME:CET
DTSTART:20251026T010000
END:STANDARD
END:VTIMEZONE
BEGIN:VEVENT
DTSTART;TZID=Europe/Berlin:20240503T130000
DTEND;TZID=Europe/Berlin:20240504T170000
DTSTAMP:20260420T182942
CREATED:20240212T150608Z
LAST-MODIFIED:20240516T135032Z
UID:10000014-1714741200-1714842000@www.rosengarten-mannheim.de
SUMMARY:13. Mannheimer Nieren-\, Rheuma- Und Hochdrucktage
DESCRIPTION:Symposium fördert den Austausch zwischen Ärzten und Fachpersonal\nDiese 13. Veranstaltung ist Teil einer jährlichen Veranstaltungsreihe mit Schwerpunkt in der Metropolregion Rhein Neckar. Wir haben das Themenspektrum in den letzten Jahren um rheumatologische Aspekte\, insbesondere Überschneidungsthemen erweitert. \nIm ersten Teil des Seminars werden verschiedene Themen aus der Rheumatologie bzw. rheumatologische Systemerkrankungen besprochen\, danach stehen Themen aus der Dialyse-Shuntchirurgie im Vordergrund. \nAm Samstag besprechen wir wichtige transplantations- und hypertonieassoziierte Themen. \nWeitere Informationen finden Sie beim Veranstalter.
URL:https://www.rosengarten-mannheim.de/veranstaltung/13-mannheimer-nieren-rheuma-und-hochdrucktage
LOCATION:Wolfgang Amadeus Mozart Saal\, Rosengartenplatz 2\, Mannheim\, 68161\, Germany
CATEGORIES:Kulturveranstaltung
ATTACH;FMTTYPE=image/webp:https://www.rosengarten-mannheim.de/wp-content/uploads/2024/02/veranstaltungen-header-rosengarten-2024.webp
ORGANIZER;CN="Aey Congresse GmbH":MAILTO:nht-mannheim@aey-congresse.de
END:VEVENT
END:VCALENDAR