BEGIN:VCALENDAR
VERSION:2.0
PRODID:-//Rosengarten Mannheim - ECPv6.15.20//NONSGML v1.0//EN
CALSCALE:GREGORIAN
METHOD:PUBLISH
X-WR-CALNAME:Rosengarten Mannheim
X-ORIGINAL-URL:https://www.rosengarten-mannheim.de
X-WR-CALDESC:Veranstaltungen für Rosengarten Mannheim
REFRESH-INTERVAL;VALUE=DURATION:PT1H
X-Robots-Tag:noindex
X-PUBLISHED-TTL:PT1H
BEGIN:VTIMEZONE
TZID:Europe/Berlin
BEGIN:DAYLIGHT
TZOFFSETFROM:+0100
TZOFFSETTO:+0200
TZNAME:CEST
DTSTART:20250330T010000
END:DAYLIGHT
BEGIN:STANDARD
TZOFFSETFROM:+0200
TZOFFSETTO:+0100
TZNAME:CET
DTSTART:20251026T010000
END:STANDARD
BEGIN:DAYLIGHT
TZOFFSETFROM:+0100
TZOFFSETTO:+0200
TZNAME:CEST
DTSTART:20260329T010000
END:DAYLIGHT
BEGIN:STANDARD
TZOFFSETFROM:+0200
TZOFFSETTO:+0100
TZNAME:CET
DTSTART:20261025T010000
END:STANDARD
BEGIN:DAYLIGHT
TZOFFSETFROM:+0100
TZOFFSETTO:+0200
TZNAME:CEST
DTSTART:20270328T010000
END:DAYLIGHT
BEGIN:STANDARD
TZOFFSETFROM:+0200
TZOFFSETTO:+0100
TZNAME:CET
DTSTART:20271031T010000
END:STANDARD
END:VTIMEZONE
BEGIN:VEVENT
DTSTART;TZID=Europe/Berlin:20261202T200000
DTEND;TZID=Europe/Berlin:20261202T200000
DTSTAMP:20260424T155017
CREATED:20251121T103412Z
LAST-MODIFIED:20251121T105551Z
UID:10000460-1796241600-1796241600@www.rosengarten-mannheim.de
SUMMARY:The Dark Tenor
DESCRIPTION:Nach dem überwältigenden Erfolg des vergangenen Jahres\, der über 70.000 Musikfans in die Konzertsäle lockte\, bringt der Rock meets Klassik Künstler\, Billy Andrews\, jetzt eine neue Show mit frischen\, innovativen Konzepten und neuen Songs auf die Bühne. \nRock meets Klassik – Symphonic Evolution Tour 2025/26 \nDie Tour kreiert eine elektrisierende Mischung aus klassischer Musik und Rock\, wobei sie Meisterwerke von Beethoven\, Mozart und Bach – die rebellischen Musikikonen ihrer Zeit – in einem neuen Licht präsentiert. \nDiese musikalische Reise verknüpft beeindruckende klassische Harmonien mit der kraftvollen Dynamik des Rock.
URL:https://www.rosengarten-mannheim.de/veranstaltung/the-dark-tenor
LOCATION:Mu­sen­saal\, Rosengartenplatz 2\, Mannheim\, 68161\, Germany
CATEGORIES:Kulturveranstaltung
ATTACH;FMTTYPE=image/webp:https://www.rosengarten-mannheim.de/wp-content/uploads/2024/02/m_con_p_30.webp
ORGANIZER;CN="Red Raven GmbH":MAILTO:helpme@thedarktenor.com
END:VEVENT
BEGIN:VEVENT
DTSTART;TZID=Europe/Berlin:20261203T200000
DTEND;TZID=Europe/Berlin:20261203T200000
DTSTAMP:20260424T155017
CREATED:20260416T063725Z
LAST-MODIFIED:20260416T063725Z
UID:10000487-1796328000-1796328000@www.rosengarten-mannheim.de
SUMMARY:Hogwarts Sympho Show
DESCRIPTION:
URL:https://www.rosengarten-mannheim.de/veranstaltung/hogwarts-sympho-show
LOCATION:Wolfgang Amadeus Mozart Saal\, Rosengartenplatz 2\, Mannheim\, 68161\, Germany
CATEGORIES:Kulturveranstaltung
ATTACH;FMTTYPE=image/png:https://www.rosengarten-mannheim.de/wp-content/uploads/2024/04/Header-Hausordnung_rosengarten-mannheim-de.png
ORGANIZER;CN="Grusha Media GmbH":MAILTO:info@grusha-media.de
END:VEVENT
BEGIN:VEVENT
DTSTART;TZID=Europe/Berlin:20261204T200000
DTEND;TZID=Europe/Berlin:20261204T200000
DTSTAMP:20260424T155017
CREATED:20260416T115045Z
LAST-MODIFIED:20260416T115045Z
UID:10000537-1796414400-1796414400@www.rosengarten-mannheim.de
SUMMARY:Cem Adrian
DESCRIPTION:
URL:https://www.rosengarten-mannheim.de/veranstaltung/cem-adrian-3
LOCATION:Wolfgang Amadeus Mozart Saal\, Rosengartenplatz 2\, Mannheim\, 68161\, Germany
CATEGORIES:Kulturveranstaltung
ATTACH;FMTTYPE=image/jpeg:https://www.rosengarten-mannheim.de/wp-content/uploads/2025/09/cem-adrian-tickets-header-e1776340230926.jpg
ORGANIZER;CN="CES & CA GmbH":MAILTO:cescagmbh@gmail.com
END:VEVENT
BEGIN:VEVENT
DTSTART;TZID=Europe/Berlin:20261204T200000
DTEND;TZID=Europe/Berlin:20261204T200000
DTSTAMP:20260424T155017
CREATED:20260416T115744Z
LAST-MODIFIED:20260416T115757Z
UID:10000538-1796414400-1796414400@www.rosengarten-mannheim.de
SUMMARY:Alexander Stevens & Jacqueline Belle - True Crime - Toxic Love
DESCRIPTION:
URL:https://www.rosengarten-mannheim.de/veranstaltung/alexander-stevens-jacqueline-belle-true-crime-toxic-love
LOCATION:Mu­sen­saal\, Rosengartenplatz 2\, Mannheim\, 68161\, Germany
CATEGORIES:Kulturveranstaltung
ATTACH;FMTTYPE=image/webp:https://www.rosengarten-mannheim.de/wp-content/uploads/2024/02/veranstaltungen-rosen-garten-header.webp
ORGANIZER;CN="Konzertb%C3%BCro Augsburg GmbH":MAILTO:info@konzertbuero-augsburg.de
END:VEVENT
BEGIN:VEVENT
DTSTART;VALUE=DATE:20261205
DTEND;VALUE=DATE:20261212
DTSTAMP:20260424T155017
CREATED:20250919T125508Z
LAST-MODIFIED:20260416T083017Z
UID:10000437-1796428800-1797033599@www.rosengarten-mannheim.de
SUMMARY:Symposium "airbag 2026"
DESCRIPTION:
URL:https://www.rosengarten-mannheim.de/veranstaltung/symposium-airbag-2026
LOCATION:Congress Center Rosengarten\, Rosengartenplatz 2\, Mannheim\, 68161\, Deutschland
CATEGORIES:Kongress
ATTACH;FMTTYPE=image/webp:https://www.rosengarten-mannheim.de/wp-content/uploads/2024/03/rosengarten_stage_03.webp
ORGANIZER;CN="Fraunhofer-lnstitut f%C3%BCr Chemische Technologie (lCT)":MAILTO:info@zv.fraunhofer.de
END:VEVENT
BEGIN:VEVENT
DTSTART;TZID=Europe/Berlin:20261206T170000
DTEND;TZID=Europe/Berlin:20261206T170000
DTSTAMP:20260424T155017
CREATED:20260416T113828Z
LAST-MODIFIED:20260416T113828Z
UID:10000535-1796576400-1796576400@www.rosengarten-mannheim.de
SUMMARY:Nikolauskonzert -Mannheimer Bläserphilharmonie
DESCRIPTION:
URL:https://www.rosengarten-mannheim.de/veranstaltung/nikolauskonzert-mannheimer-blaeserphilharmonie-2
LOCATION:Wolfgang Amadeus Mozart Saal\, Rosengartenplatz 2\, Mannheim\, 68161\, Germany
ATTACH;FMTTYPE=image/webp:https://www.rosengarten-mannheim.de/wp-content/uploads/2023/11/location-cc-rosengarten.webp
ORGANIZER;CN="Mannheimer Bl%C3%A4serphilharmonie e.V.":MAILTO:info@mbp-ev.de
END:VEVENT
BEGIN:VEVENT
DTSTART;TZID=Europe/Berlin:20261206T193000
DTEND;TZID=Europe/Berlin:20261206T193000
DTSTAMP:20260424T155017
CREATED:20260416T114102Z
LAST-MODIFIED:20260416T114146Z
UID:10000536-1796585400-1796585400@www.rosengarten-mannheim.de
SUMMARY:Deutsche Staatsphilharmonie Rheinland-Pfalz
DESCRIPTION:
URL:https://www.rosengarten-mannheim.de/veranstaltung/deutsche-staatsphilharmonie-rheinland-pfalz-2
LOCATION:Mu­sen­saal\, Rosengartenplatz 2\, Mannheim\, 68161\, Germany
CATEGORIES:Kulturveranstaltung
ATTACH;FMTTYPE=image/webp:https://www.rosengarten-mannheim.de/wp-content/uploads/2024/02/m_con_p_30.webp
ORGANIZER;CN="Deutsche Staatsphilharmonie Rheinland-Pfalz":MAILTO:info@staatsphilharmonie.de
END:VEVENT
BEGIN:VEVENT
DTSTART;TZID=Europe/Berlin:20261219T200000
DTEND;TZID=Europe/Berlin:20261219T200000
DTSTAMP:20260424T155017
CREATED:20260416T102546Z
LAST-MODIFIED:20260416T102546Z
UID:10000529-1797710400-1797710400@www.rosengarten-mannheim.de
SUMMARY:Thomas Siffling's Christmas Gala
DESCRIPTION:
URL:https://www.rosengarten-mannheim.de/veranstaltung/thomas-sifflings-christmas-gala
LOCATION:Mu­sen­saal\, Rosengartenplatz 2\, Mannheim\, 68161\, Germany
CATEGORIES:Kulturveranstaltung
ATTACH;FMTTYPE=image/webp:https://www.rosengarten-mannheim.de/wp-content/uploads/2024/02/m_con_p_30.webp
ORGANIZER;CN="Siffling Productions":MAILTO:contact@siffling-productions.com
END:VEVENT
BEGIN:VEVENT
DTSTART;TZID=Europe/Berlin:20261221T193000
DTEND;TZID=Europe/Berlin:20261221T193000
DTSTAMP:20260424T155017
CREATED:20251212T145836Z
LAST-MODIFIED:20260115T094824Z
UID:10000467-1797881400-1797881400@www.rosengarten-mannheim.de
SUMMARY:Drei Haselnüsse für Aschenbrödel - Der Originalfilm mit Live-Orchester
DESCRIPTION:Drei Haselnüsse für Aschenbrödel \nDer Originalfilm mit Live-Orchester \nFür viele gehört der Film „Drei Haselnüsse für Aschenbrödel“ so untrennbar zu Weihnachten wie das Funkeln der Kerzen am Baum und ist damit fester Bestandteil des Weihnachtsprogramms. Denn es sind die kleinen magischen Momente\, die diese zauberhafte Liebesgeschichte so besonders machen: die drei Zaubernüsse\, die Aschenbrödel Wünsche erfüllen\, die verschneiten Landschaften\, der festliche Ball – und natürlich der Moment\, in dem der Prinz den zierlichen Schuh auf der Treppe entdeckt. \nDoch nicht nur im Fernsehen entfaltet das Märchen seine Magie: Seit einigen Jahren sorgt der Weihnachtsklassiker regelmäßig für ausverkaufte Konzertsäle\, wo sich die Bühnen in eine märchenhafte Kulisse der romantischen Liebesgeschichte verwandelt. Während der Film auf einer Kinoleinwand läuft\, begleitet ein großes Symphonieorchester die Szenen mit den bekannten Klängen und lässt die Zuschauer beinahe selbst zu Besuchern des Hofballs werden. \nDer Soundtrack des tschechischen Komponisten Karel Svoboda trug maßgeblich zum Erfolg des Films bei – schon kurz nach dessen Veröffentlichung erhielt Svoboda internationale Aufträge und komponierte später die unvergesslichen Melodien für Zeichentrickklassiker wie „Die Biene Maja“\, „Wickie“ und „Nils Holgersson“. Doch gerade die Musik zu „Drei Haselnüsse für Aschenbrödel“ hat bis heute einen besonderen Zauber und weckt bei den Zuhörern ein Gefühl von purem Glück – fast so schön wie die Vorfreude aufs Fest. \nOrchester: Badische Staatskapelle Karlsruhe \nFilmPhilharmonic Edition / Film mit Genehmigung der Deutschen Kinemathek im Auftrag der DEFA Stiftung / Musik mit Genehmigung von Pro Vox Music Publishing
URL:https://www.rosengarten-mannheim.de/veranstaltung/drei-haselnuesse-fuer-aschenbroedel-der-originalfilm-mit-live-orchester
LOCATION:Wolfgang Amadeus Mozart Saal\, Rosengartenplatz 2\, Mannheim\, 68161\, Germany
CATEGORIES:Kulturveranstaltung
ATTACH;FMTTYPE=image/jpeg:https://www.rosengarten-mannheim.de/wp-content/uploads/2025/12/68ef651cc5a783a1641f6027_3HFA_M1_LLE_Website_Headerbild_1920x910.jpg
ORGANIZER;CN="LIMELIGHT LIVE ENTERTAINMENT GmbH":MAILTO:info@limelight-live.de
END:VEVENT
BEGIN:VEVENT
DTSTART;TZID=Europe/Berlin:20261222T193000
DTEND;TZID=Europe/Berlin:20261222T193000
DTSTAMP:20260424T155017
CREATED:20260304T125915Z
LAST-MODIFIED:20260304T125915Z
UID:10000491-1797967800-1797967800@www.rosengarten-mannheim.de
SUMMARY:„Der Nussknacker“ – Klassisches Ballett mit Orchester
DESCRIPTION:Das Crown Ballet® kehrt mit seiner gefeierten klassischen Inszenierung von „Der Nussknacker“ zurück nach Deutschland und bringt das beliebte Weihnachtsballett am 22. Dezember 2026 auf die Bühne vom\nCongress Center Rosengarten in Mannheim.\nDie Aufführung verbindet märchenhafte Poesie\, mitreißende Musik und glanzvolle Choreografien – ein\nunvergessliches Erlebnis für die ganze Familie und ein festlicher Auftakt in die Adventszeit.\nEin zeitloses Meisterwerk von Tschaikowsky\n„Der Nussknacker“ gehört zu den bekanntesten und beliebtesten Balletten überhaupt.\nBasierend auf E.T.A. Hoffmanns Erzählung „Nussknacker und Mausekönig“ erzählt das Stück die Geschichte der jungen Marie\, die zu Weihnachten von ihrem Patenonkel Drosselmeier eine Nussknackerpuppe geschenkt bekommt.\nIn der Nacht erwacht die Fantasie zum Leben: Der Nussknacker verwandelt sich in einen Prinzen\, und\ngemeinsam bestehen sie ein märchenhaftes Abenteuer voller Mut\, Wunder und festlicher Magie.\nBegleitet von der unvergänglichen Musik Peter I. Tschaikowskys entfaltet sich eine Welt\, in der Träume\nWirklichkeit werden – mit funkelnden Schneeflocken\, tanzenden Zuckerfeen und einer Choreografie\, die\ndas Publikum verzaubert.\nLive-Musik eines großartigen Orchesters\nFür die musikalische Begleitung sorgt das Crown Ballet Orchestra\, gegründet im Jahr 2023. Das Ensemble vereint professionelle Musikerinnen und Musiker aus aller Welt – unter anderem aus Spanien\, der Ukraine\, Moldawien\, Mexiko\, Georgien und China.\nDiese kulturelle Vielfalt prägt den unverwechselbaren Klang des Orchesters und verleiht der Aufführung\neine außergewöhnliche Tiefe und emotionale Intensität.\nÜber Crown Ballet®\nDas Crown Ballet® ist ein internationales Ensemble hochkarätiger Tänzerinnen und Tänzer\, die ihre\nLeidenschaft für das klassische Ballett teilen.\nMit eleganten Inszenierungen\, ausdrucksstarker Musik und meisterhaften Choreografien begeistert das\nEnsemble ein Publikum über Generationen hinweg – und lässt die großen Werke der Ballettgeschichte in\nneuem Glanz erstrahlen.
URL:https://www.rosengarten-mannheim.de/veranstaltung/der-nussknacker-klassisches-ballett-mit-orchester-2
LOCATION:Wolfgang Amadeus Mozart Saal\, Rosengartenplatz 2\, Mannheim\, 68161\, Germany
ATTACH;FMTTYPE=image/jpeg:https://www.rosengarten-mannheim.de/wp-content/uploads/2026/03/detailGroup_527235.jpg
ORGANIZER;CN="Concert Productions Dresden GmbH":MAILTO:office@concert-productions.de
END:VEVENT
BEGIN:VEVENT
DTSTART;TZID=Europe/Berlin:20261227T200000
DTEND;TZID=Europe/Berlin:20261227T200000
DTSTAMP:20260424T155017
CREATED:20260416T070651Z
LAST-MODIFIED:20260416T094058Z
UID:10000513-1798401600-1798401600@www.rosengarten-mannheim.de
SUMMARY:Herr der Ringe & Der Hobbit in Concert
DESCRIPTION:Großes Orchester\, Solisten und Sänger der Cinema Festival Symphonics\nIn einem imposanten Konzerterlebnis mit Solisten\, Chor und Orchester kommt die Musik der Hobbits und der Orks zu Ihnen. \nDie Reise nach Mittelerde\nDie bedrohlichen Klängen Mordors und der Sound der schwarzen Reiter\, die wunderschönen lyrischen Melodien der Elben – die renommierten Cinema Festival Symphonics verwandeln die Realität in einen musikalischen Schauplatz Mittelerdes. \nHoward Shore komponierte einen Großteil der Musik für die Filmtrilogien „Der Herr der Ringe“ und „Der Hobbit” und erhielt dafür den Oscar\, Grammys und den Golden Globe. Seine Motive berühren elementar\, wenn der Ring seine Macht entfaltet und den Träger aller Macht korrumpiert: eine Parabel\, mit großem aktuellem Bezug. \nBegleitet von Geigen\, Trompeten und Pauken entführen Ensemble\, Solisten und Chor das Publikum ins Auenland\, durch die Landschaft von Rohan und bis zum Schicksalsberg. \nDas melodische Tönen von Flöten und Violinen werden im Hintergrund von grünen Landschaften und düstere Szenarien auf die Leinwand unterstützt. Eigens für die Produktion entwickelte Animationen verleihen diesem symphonischen Ereignis eine zusätzliche Dimension. Viel Spaß in Mittelerde! \n“The last Goodbye” und “Far over the Misty Mountains cold” werden von stimmgewaltigen Solisten vorgetragen\, die den bekannten Liedern eine persönliche Note verleiht. „Der Herr der Ringe & Der Hobbit – Das Konzert“ ist ein fantastischer Abend der ganz besonderen Art. Klangvoll\, stimmungsvoll\, einzigartig!
URL:https://www.rosengarten-mannheim.de/veranstaltung/herr-der-ringe-der-hobbit-in-concert
LOCATION:Mu­sen­saal\, Rosengartenplatz 2\, Mannheim\, 68161\, Germany
CATEGORIES:Kulturveranstaltung
ATTACH;FMTTYPE=image/webp:https://www.rosengarten-mannheim.de/wp-content/uploads/2024/02/m_con_p_30.webp
ORGANIZER;CN="Highlight-Concerts GmbH":MAILTO:info@highlight-concerts.com
END:VEVENT
BEGIN:VEVENT
DTSTART;TZID=Europe/Berlin:20261229T200000
DTEND;TZID=Europe/Berlin:20261229T200000
DTSTAMP:20260424T155017
CREATED:20260416T080241Z
LAST-MODIFIED:20260416T080241Z
UID:10000518-1798574400-1798574400@www.rosengarten-mannheim.de
SUMMARY:Star Wars
DESCRIPTION:Das Beste aus den genialen\, vielfach preisgekrönten Star Wars-Filmen live\nDie „Star Wars“-Filme haben einen noch nie dagewesenen\, weltweiten Hype ausgelöst\, der heute aktueller ist denn je. Die ergreifende Musik des vielfachen Oscar-Gewinners John Williams live erleben – das ist das Größte für die Fans der Science-Fiction-Kultur. Die Aufführungen lösen europaweit Begeisterungsstürme aus. \n„The Music of Star Wars – Live in Concert“  ist eine faszinierende Reise durch Zeit\, Raum und Musik dieses großen Universums. Dabei werden ein Orchester\, ein großer Chor sowie Solokünstler die musikalischen Highlights aus den Filmen präsentieren und zu einem harmonischen Ganzen zusammenwachsen lassen. Leinwand-Animationen und visuelle Effekte sollen dabei die „Star Wars“-Herzen zusätzlich höherschlagen lassen. \nÜber John Williams\nDer amerikanische Komponist John Williams hat 5 Oscars gewonnen\, wurde für 49(!) Oscars nominiert und hat mit seinen „Star Wars“-Soundtracks sein Meisterwerk geschaffen und Kinogeschichte geschrieben. \nDas Universum von Jedi Ritter Luke Skywalker\, Han Solo und Darth Vader und Prinzessin Leia ist mit der The Music of Star Wars – Live in Concert näher zu erleben – einer mitreißenden musikalischen und visuellen Erfahrung\, die das Imperiums in einer besonderen Intensität zum Leben erweckt. \nStephen Ellery mit gigantischem Ensemble\nMit modernster Technologie wird das große Ensemble der renommierten Cinema Festival Symphonics mit Orchester\, Solisten und Chor die Fans auf eine musikalische Reise durch die Highlights der Star Wars Filme führen – begleitet von einmaligen Leinwand-Animationen\, die tief in das Star Wars Universum eintauchen lassen.
URL:https://www.rosengarten-mannheim.de/veranstaltung/star-wars
LOCATION:Congress Center Rosengarten\, Rosengartenplatz 2\, Mannheim\, 68161\, Deutschland
CATEGORIES:Kulturveranstaltung
ATTACH;FMTTYPE=image/webp:https://www.rosengarten-mannheim.de/wp-content/uploads/2024/02/m_con_p_30.webp
ORGANIZER;CN="Highlight-Concerts GmbH":MAILTO:info@highlight-concerts.com
END:VEVENT
END:VCALENDAR