BEGIN:VCALENDAR
VERSION:2.0
PRODID:-//Rosengarten Mannheim - ECPv6.15.20//NONSGML v1.0//EN
CALSCALE:GREGORIAN
METHOD:PUBLISH
X-WR-CALNAME:Rosengarten Mannheim
X-ORIGINAL-URL:https://www.rosengarten-mannheim.de
X-WR-CALDESC:Veranstaltungen für Rosengarten Mannheim
REFRESH-INTERVAL;VALUE=DURATION:PT1H
X-Robots-Tag:noindex
X-PUBLISHED-TTL:PT1H
BEGIN:VTIMEZONE
TZID:Europe/Berlin
BEGIN:DAYLIGHT
TZOFFSETFROM:+0100
TZOFFSETTO:+0200
TZNAME:CEST
DTSTART:20250330T010000
END:DAYLIGHT
BEGIN:STANDARD
TZOFFSETFROM:+0200
TZOFFSETTO:+0100
TZNAME:CET
DTSTART:20251026T010000
END:STANDARD
BEGIN:DAYLIGHT
TZOFFSETFROM:+0100
TZOFFSETTO:+0200
TZNAME:CEST
DTSTART:20260329T010000
END:DAYLIGHT
BEGIN:STANDARD
TZOFFSETFROM:+0200
TZOFFSETTO:+0100
TZNAME:CET
DTSTART:20261025T010000
END:STANDARD
BEGIN:DAYLIGHT
TZOFFSETFROM:+0100
TZOFFSETTO:+0200
TZNAME:CEST
DTSTART:20270328T010000
END:DAYLIGHT
BEGIN:STANDARD
TZOFFSETFROM:+0200
TZOFFSETTO:+0100
TZNAME:CET
DTSTART:20271031T010000
END:STANDARD
END:VTIMEZONE
BEGIN:VEVENT
DTSTART;TZID=Europe/Berlin:20260912T200000
DTEND;TZID=Europe/Berlin:20260912T200000
DTSTAMP:20260420T152244
CREATED:20260205T105129Z
LAST-MODIFIED:20260205T110404Z
UID:10000480-1789243200-1789243200@www.rosengarten-mannheim.de
SUMMARY:Gala Konzert European Youth Orchestra Academy
DESCRIPTION:Die European Youth Orchestra Academy\, kurz EYOA\, ist mehr als ein Orchester: Sie ist ein Ort für Freundschaft\, Austausch und ein lebendiges Europa. Wir bringen jedes Jahr hochbegabte junge Musiker:innen aus ganz Europa nach Mannheim. Hier\, wo einst die Mannheimer Schule Klanggeschichte schrieb\, entsteht eine neue Schule des europäischen Miteinanders. \nUnsere Mission: mit Musik als universeller Sprache Grenzen überwinden\, Freundschaften stiften und Europa erfahrbar machen. Neben intensiven Proben und Konzerten erleben die Jugendlichen politische und kulturelle Impulse\, diskutieren über Europas Zukunft und lernen\, Vielfalt als Stärke zu begreifen.\nUnsere Vision: ein Europa\, das durch die Stimmen seiner Jugend erklingt – harmonisch\, mutig und voller Ideen.
URL:https://www.rosengarten-mannheim.de/veranstaltung/gala-konzert-european-youth-orchestra-academy
LOCATION:Congress Center Rosengarten\, Rosengartenplatz 2\, Mannheim\, 68161\, Deutschland
CATEGORIES:Kulturveranstaltung
ATTACH;FMTTYPE=image/png:https://www.rosengarten-mannheim.de/wp-content/uploads/2024/04/Header-Hausordnung_rosengarten-mannheim-de.png
ORGANIZER;CN="European Youth Orchestra Academy (EYOA) gGmbH":MAILTO:kontakt@eyoa.de
END:VEVENT
BEGIN:VEVENT
DTSTART;TZID=Europe/Berlin:20260913T190000
DTEND;TZID=Europe/Berlin:20260913T190000
DTSTAMP:20260420T152244
CREATED:20250904T122900Z
LAST-MODIFIED:20250904T122900Z
UID:10000419-1789326000-1789326000@www.rosengarten-mannheim.de
SUMMARY:Serdar Somuncu - HASSIAS - Er ist wieder da. Und er hasst euch noch immer
DESCRIPTION:Serdar Somuncu ist zurück! \nZwei Jahre war Ruhe. Zwei Jahre ohne den Hassias. Zwei Jahre\, in denen Moral\, Anstand und Empathie schamlos regieren durften. \nDoch jetzt ist Schluss mit dem Kuschelkurs – denn er ist zurück. \nUnd er hasst euch noch immer! \nSerdar Somuncu schlüpft erneut in die Rolle des selbsternannten Oberhaupts der fiktiven Glaubensgemeinschaft »HASSIAS« – eine Sekte des Spottes\, ein Kult der Konfrontation. Mit seinem neuen Kabarettprogramm bringt er das auf die Bühne\, was niemand hören will\, aber alle verdient haben: Hass. Wut. Wahrheit. Ungefiltert. \nUnter dem bewährten Dogma: »Jede Minderheit hat ein Recht auf Diskriminierung.« \nEin kabarettistisches Comeback im Zeichen maximaler Zumutung. \nIntoleranz war nie schöner verpackt. \nDer Hassias predigt mit hochgerecktem Mittelfinger\, geölter Galle und bibelfester Bosheit gegen das\, was sich Zivilisation nennt: Political Correctness\, Lifestylelinke\, Almans\, Gendersternchen\, Wohlfühlfeminismus\, AfDler\, Veganer\, Yoga-Moms\, Impfgegner – niemand wird verschont\, alle werden geliebt. Und zwar gehasst. \n»Der Hassias ist kein Charakter – er ist eine Notwendigkeit. In einer Welt\, in der sich alle gegenseitig in Watte packen\, braucht es jemanden\, der mit Nägeln schmeißt. Dieses Comeback ist keine Rückkehr – es ist ein Rückfall. Und zwar mit voller Absicht.«
URL:https://www.rosengarten-mannheim.de/veranstaltung/serdar-somuncu-hassias-er-ist-wieder-da-und-er-hasst-euch-noch-immer
LOCATION:Mu­sen­saal\, Rosengartenplatz 2\, Mannheim\, 68161\, Germany
CATEGORIES:Kulturveranstaltung
ATTACH;FMTTYPE=image/jpeg:https://www.rosengarten-mannheim.de/wp-content/uploads/2025/09/Serdar-Somuncu-Hassias-2026-tickets-m.jpg
ORGANIZER;CN="Konzertb%C3%BCro Augsburg GmbH":MAILTO:info@konzertbuero-augsburg.de
END:VEVENT
BEGIN:VEVENT
DTSTART;TZID=Europe/Berlin:20260918T203000
DTEND;TZID=Europe/Berlin:20260918T203000
DTSTAMP:20260420T152244
CREATED:20260325T131107Z
LAST-MODIFIED:20260416T091744Z
UID:10000502-1789763400-1789763400@www.rosengarten-mannheim.de
SUMMARY:Enis Bešlagić - Da sam ja neko
DESCRIPTION:„Da sam ja neko“ je autorska i autobiografska priča Enisa Bešlagića – pravi rolerkoster emocija koji svuda izaziva ogromno interesovanje publike. Ovo je predstava koja se gleda srcem i sluša dušom. \nIskrena\, emotivna i puna smijeha\, nosi univerzalnu poruku ljubavi\, nade i ljudskosti. Svaka izvedba završava ovacijama\, a mnogi kažu da iz dvorane izlaze bogatiji za jedno nezaboravno životno iskustvo. \nPosebnu potvrdu kvaliteta donosi činjenica da je „Da sam ja neko“ zakazana za 02.09.2026. u velikoj dvorani slavnog Opera House-a u Sydneyu – što je historijski uspjeh\, jer će to biti prvi put u historiji da jedan dramski umjetnik s ovih prostora izvede predstavu na toj sceni. \n🎭 „Da sam ja neko“ nije samo predstava – to je priča koja nas spaja i u kojoj se svi pronalazimo. Preporučena je za cijelu porodicu i pogodna za sve uzraste. \n✨ A možda baš Vi svojom posebnošću osvojite i nagradu „Enisov NAJSMIJEH“\, koja nosi posebnu ljudsku i umjetničku vrijednost. \n👉 Ne propustite priliku da doživite predstavu koja inspiriše svojom autentičnošću – baš kao što to čini i sam Enis Bešlagić 🤍 \nUlaz je dozvoljen za osobe starije od 12 godina. \n  \nDE (Diese Übersetzung wurde mithilfe von KI erstellt): \n\n„Da sam ja neko“ ist eine autoren- und autobiografische Erzählung von Enis Bešlagić – eine wahre Gefühls-Achterbahn\, die überall ein enormes Publikumsinteresse auslöst. Dies ist eine Vorstellung\, die man mit dem Herzen sieht und mit der Seele hört. \nEhrlich\, emotional und voller Lachen trägt sie eine universelle Botschaft von Liebe\, Hoffnung und Menschlichkeit. Jede Aufführung endet mit Ovationen\, und viele sagen\, dass sie den Saal um eine unvergessliche Lebenserfahrung reicher verlassen. \nEine besondere Bestätigung der Qualität ist die Tatsache\, dass „Da sam ja neko“ für den 02.09.2026 im großen Saal des berühmten Opera House in Sydney angesetzt ist – ein historischer Erfolg\, denn es wird das erste Mal überhaupt sein\, dass ein Schauspielkünstler aus dieser Region eine Vorstellung auf dieser Bühne aufführt. \n🎭 „Da sam ja neko“ ist nicht nur eine Vorstellung – es ist eine Geschichte\, die uns verbindet und in der wir uns alle wiederfinden. Sie ist für die ganze Familie empfohlen und für alle Altersgruppen geeignet. \n✨ Und vielleicht gewinnen gerade Sie mit Ihrer Einzigartigkeit den Preis „Enisov NAJSMIJEH“\, der einen besonderen menschlichen und künstlerischen Wert trägt. \n👉 Verpassen Sie nicht die Gelegenheit\, eine Vorstellung zu erleben\, die mit ihrer Authentizität inspiriert – genau so wie Enis Bešlagić selbst 🤍 \nDer Eintritt ist für Personen ab 12 Jahren gestattet. \nDer Einlass beginnt eine Stunde vor Einlass.
URL:https://www.rosengarten-mannheim.de/veranstaltung/enis-beslagic-da-sam-ja-neko-2
LOCATION:Mu­sen­saal\, Rosengartenplatz 2\, Mannheim\, 68161\, Germany
CATEGORIES:Kulturveranstaltung
ATTACH;FMTTYPE=image/webp:https://www.rosengarten-mannheim.de/wp-content/uploads/2024/02/m_con_p_30.webp
END:VEVENT
BEGIN:VEVENT
DTSTART;TZID=Europe/Berlin:20260920T180000
DTEND;TZID=Europe/Berlin:20260920T180000
DTSTAMP:20260420T152244
CREATED:20250508T111242Z
LAST-MODIFIED:20250515T065132Z
UID:10000304-1789927200-1789927200@www.rosengarten-mannheim.de
SUMMARY:GameChanger by Bastian Bielendorfer - Alles ändert sich schneller als man selbst
DESCRIPTION:Bastian Bielendorfer rockt mit seinem brandneuen Comedy-Programm „GameChanger“ die großen Bühnen in Deutschland\, Österreich und der Schweiz. Deutschlands erfolgreichstes Ruhrpott-Kind erzählt davon\, wie sich plötzlich alles ändert: Nicht nur im Großen – wie bei der Erfindung des Rades oder des Internets – sondern auch im ganz Persönlichen. Denn irgendwann steht man nicht mehr im Club\, sondern bei IKEA. Nicht mehr im Klassenraum\, sondern am Wickeltisch. \nMit dem typischen Mix aus Selbstironie\, ehrlicher Verzweiflung und entwaffnendem Humor berichtet Bielendorfer davon\, wie es ist\, wenn die Freunde sich scheiden lassen\, während man selbst noch überlegt\, ob man überhaupt erwachsen ist. Wenn man auf dem Musikfestival auf einmal gesiezt wird und man mit Anfang 40 morgens plötzlich die Reste der eigenen Frisur auf dem Kopfkissen findet. „Früher war alles besser“ haben mal die eigenen Großeltern gesagt\, jetzt erwischt man sich selbst dabei.\n„GameChanger“ by Bastian Bielendorfer ist ein Blick auf die absurdesten Veränderungen unseres Lebens\, die jeden Tag mehr zu werden scheinen. \nVon der KI\, die unsere Bewerbungen schreibt\, Lifestylegurus\, die uns ihre Kalenderweisheiten auf Social-Media verkaufen und Menschen\, die zum Reiten plötzlich keine Pferde mehr brauchen.\nGameChanger by Bastian Bielendorfer. \nEin Abend voller Lacher\, Lebensweisheiten und Laktoseintoleranz. \n  \nDer Einlass beginnt eine Stunde vor Veranstaltungsbeginn.
URL:https://www.rosengarten-mannheim.de/veranstaltung/gamechanger-by-bastian-bielendorfer-alles-aendert-sich-schneller-als-man-selbst
LOCATION:Mu­sen­saal\, Rosengartenplatz 2\, Mannheim\, 68161\, Germany
ATTACH;FMTTYPE=image/jpeg:https://www.rosengarten-mannheim.de/wp-content/uploads/2025/05/Bastian_Bielendorfer_1920x1080.jpg
ORGANIZER;CN="S-PROMOTION Event GmbH":MAILTO:info@s-promotion.de
END:VEVENT
BEGIN:VEVENT
DTSTART;VALUE=DATE:20260925
DTEND;VALUE=DATE:20260928
DTSTAMP:20260420T152244
CREATED:20260416T085613Z
LAST-MODIFIED:20260417T083648Z
UID:10000524-1790294400-1790553599@www.rosengarten-mannheim.de
SUMMARY:Guitar Summit 2026
DESCRIPTION:GUITAR SUMMIT 2026 – Europas größte Gitarrenshow \nDer Guitar Summit findet vom 25. bis 27. September 2026 zum 8. Mal im Rosengarten Mannheim statt. An drei Tagen wird der Rosengarten zum Treffpunkt für alle\, die Gitarren\, Bässe und gutes Equipment lieben – vom neugierigen Einsteiger bis zum echten Musik-Nerd. Besucherinnen und Besucher erwartet eine Mischung aus großer Ausstellung\, spannenden Workshops und besonderen Live-Konzerten. Das Besondere: Der Guitar Summit ist als Silent Show konzipiert. Vieles läuft über Kopfhörer\, sodass Instrumente und Verstärker in Ruhe getestet werden können\, ohne dass überall gleichzeitig der volle Lautstärkepegel herrscht. \nWas euch erwartet: \n\nDie Ausstellung\nAuf vier Etagen des Rosengartens zeigen über 600 Aussteller alles\, was das Gitarren- und Bassherz höherschlagen lässt – von großen bekannten Marken bis zu kleinen Manufakturen und edlen Custom-Shops. Hier kann man nicht nur schauen\, sondern vieles auch direkt in die Hand nehmen und ausprobieren.\nDie Workshops\nWer tiefer eintauchen will\, ist hier genau richtig: In über 100 Workshops auf 7 Bühnen gibt es Tipps\, Tricks und jede Menge Inspiration von erfahrenen Musikerinnen und Musikern. Dabei ist es ganz egal\, ob man Anfänger:in ist oder schon auf hohem Niveau spielt.\nDie Konzerte\nEin echtes Highlight sind die Konzertabende am Freitag und Samstag. Dort gibt es besondere Live-Shows\, spannende Besetzungen und auch mal spontane Jams mit internationalen Künstlerinnen und Künstlern. Kurz gesagt: Momente\, die man so nicht überall erlebt.\nDie Atmosphäre\nDer Guitar Summit ist Treffpunkt für eine internationale Community und gleichzeitig auch für alle spannend\, die einfach Lust auf Musik\, Live-Erlebnisse und besondere Instrumente haben. Genau diese Mischung macht den Reiz der Veranstaltung aus.\n\n  \nDas Programm für 2026 ist aktuell in Arbeit\, erste Namen werden bald angekündigt. Alle Infos gibt es unter www.guitarsummit.com. \n  \n  \nGUITAR SUMMIT 2026 – Europe’s biggest Guitarshow \n  \nThe Guitar Summit returns to the Rosengarten Mannheim from September 25 to 27\, 2026\, celebrating its 8th edition. For three days\, the Rosengarten becomes the place to be for everyone who loves guitars\, basses\, and great gear — from curious beginners to full-on music nerds. Visitors can look forward to a mix of a large exhibition\, inspiring workshops\, and special live concerts. What makes it unique: the Guitar Summit is designed as a Silent Show. Much of the event runs through headphones\, so instruments and amps can be tested in a relaxed way without the constant full-volume noise all around. \nWhat to expect: \n\nThe Exhibition\nAcross four floors of the Rosengarten\, more than 600 exhibitors showcase everything that makes guitar and bass fans happy — from major well-known brands to small manufacturers and high-end custom shops. It’s not just about looking: many instruments and products can also be picked up and tried out on site.\nThe Workshops\nAnyone who wants to dive deeper is in the right place here. With more than 100 workshops across 7 stages\, visitors can expect tips\, tricks\, and plenty of inspiration from experienced musicians. Whether you’re a beginner or already playing at a high level\, there’s something here for everyone.\nThe Concerts\nOne of the big highlights are the concert evenings on Friday and Saturday. Expect special live shows\, exciting artist line-ups\, and even the occasional spontaneous jam with international musicians. In other words: moments you do not get to experience just anywhere.\nThe Atmosphere\nThe Guitar Summit is a meeting point for an international community\, while also being exciting for anyone who simply enjoys music\, live experiences\, and exceptional instruments. That unique mix is exactly what gives the event its special appeal.\n\nThe 2026 program is currently in the works\, with the first names to be announced soon. All information can be found at www.guitarsummit.com.
URL:https://www.rosengarten-mannheim.de/veranstaltung/guitar-summit-2026
LOCATION:Congress Center Rosengarten\, Rosengartenplatz 2\, Mannheim\, 68161\, Deutschland
CATEGORIES:Kulturveranstaltung
ATTACH;FMTTYPE=image/png:https://www.rosengarten-mannheim.de/wp-content/uploads/2026/04/GS26-Banner-MCON-1350x675-300-v2.png
ORGANIZER;CN="Ebner Media Group GmbH & Co. KG":MAILTO:info@ebnermedia.de
END:VEVENT
END:VCALENDAR