BEGIN:VCALENDAR
VERSION:2.0
PRODID:-//Rosengarten Mannheim - ECPv6.15.20//NONSGML v1.0//EN
CALSCALE:GREGORIAN
METHOD:PUBLISH
X-WR-CALNAME:Rosengarten Mannheim
X-ORIGINAL-URL:https://www.rosengarten-mannheim.de
X-WR-CALDESC:Veranstaltungen für Rosengarten Mannheim
REFRESH-INTERVAL;VALUE=DURATION:PT1H
X-Robots-Tag:noindex
X-PUBLISHED-TTL:PT1H
BEGIN:VTIMEZONE
TZID:Europe/Berlin
BEGIN:DAYLIGHT
TZOFFSETFROM:+0100
TZOFFSETTO:+0200
TZNAME:CEST
DTSTART:20250330T010000
END:DAYLIGHT
BEGIN:STANDARD
TZOFFSETFROM:+0200
TZOFFSETTO:+0100
TZNAME:CET
DTSTART:20251026T010000
END:STANDARD
BEGIN:DAYLIGHT
TZOFFSETFROM:+0100
TZOFFSETTO:+0200
TZNAME:CEST
DTSTART:20260329T010000
END:DAYLIGHT
BEGIN:STANDARD
TZOFFSETFROM:+0200
TZOFFSETTO:+0100
TZNAME:CET
DTSTART:20261025T010000
END:STANDARD
BEGIN:DAYLIGHT
TZOFFSETFROM:+0100
TZOFFSETTO:+0200
TZNAME:CEST
DTSTART:20270328T010000
END:DAYLIGHT
BEGIN:STANDARD
TZOFFSETFROM:+0200
TZOFFSETTO:+0100
TZNAME:CET
DTSTART:20271031T010000
END:STANDARD
END:VTIMEZONE
BEGIN:VEVENT
DTSTART;VALUE=DATE:20260731
DTEND;VALUE=DATE:20260803
DTSTAMP:20260422T105602
CREATED:20260416T072231Z
LAST-MODIFIED:20260416T074449Z
UID:10000514-1785456000-1785715199@www.rosengarten-mannheim.de
SUMMARY:Animagic 2026
DESCRIPTION:„100 % MAGIC!“ \n\nFreut euch wie gewohnt auf ein hochwertiges\, abwechslungsreiches und vielseitiges Programm: großartige Music-Acts\, erstklassige japanische und deutschsprachige Ehrengäste\, fantastische Showgruppen\, das Animotion-Filmfestival mit exklusiven Premieren-Screenings sowie branchenrelevante Aussteller und Händler.\nKurz gesagt: ein rundum magisches Wochenende für alle Anime-\, Manga-\, J-Music- und J-Culture-Fans! \nEinlass Rosengarten\nFreitag\, 31. Juli 2026: 13:00 – 01:00 Uhr \nSamstag\, 1. August 2026: 9:30 – 01:00 Uhr \nSonntag\, 2. August 2026: 10:00 – 18:30 Uhr \nAlle weiteren Informationen zum Programm findet ihr unter: https://animagic.de/
URL:https://www.rosengarten-mannheim.de/veranstaltung/animagic-2026
LOCATION:Congress Center Rosengarten\, Rosengartenplatz 2\, Mannheim\, 68161\, Deutschland
CATEGORIES:Kongress
ATTACH;FMTTYPE=image/webp:https://www.rosengarten-mannheim.de/wp-content/uploads/2023/11/location-cc-rosengarten.webp
ORGANIZER;CN="Animagine GmbH":MAILTO:info@animania.de
END:VEVENT
END:VCALENDAR