BEGIN:VCALENDAR
VERSION:2.0
PRODID:-//Rosengarten Mannheim - ECPv6.15.20//NONSGML v1.0//EN
CALSCALE:GREGORIAN
METHOD:PUBLISH
X-ORIGINAL-URL:https://www.rosengarten-mannheim.de
X-WR-CALDESC:Veranstaltungen für Rosengarten Mannheim
REFRESH-INTERVAL;VALUE=DURATION:PT1H
X-Robots-Tag:noindex
X-PUBLISHED-TTL:PT1H
BEGIN:VTIMEZONE
TZID:Europe/Berlin
BEGIN:DAYLIGHT
TZOFFSETFROM:+0100
TZOFFSETTO:+0200
TZNAME:CEST
DTSTART:20250330T010000
END:DAYLIGHT
BEGIN:STANDARD
TZOFFSETFROM:+0200
TZOFFSETTO:+0100
TZNAME:CET
DTSTART:20251026T010000
END:STANDARD
BEGIN:DAYLIGHT
TZOFFSETFROM:+0100
TZOFFSETTO:+0200
TZNAME:CEST
DTSTART:20260329T010000
END:DAYLIGHT
BEGIN:STANDARD
TZOFFSETFROM:+0200
TZOFFSETTO:+0100
TZNAME:CET
DTSTART:20261025T010000
END:STANDARD
BEGIN:DAYLIGHT
TZOFFSETFROM:+0100
TZOFFSETTO:+0200
TZNAME:CEST
DTSTART:20270328T010000
END:DAYLIGHT
BEGIN:STANDARD
TZOFFSETFROM:+0200
TZOFFSETTO:+0100
TZNAME:CET
DTSTART:20271031T010000
END:STANDARD
END:VTIMEZONE
BEGIN:VEVENT
DTSTART;TZID=Europe/Berlin:20260607T100000
DTEND;TZID=Europe/Berlin:20260607T100000
DTSTAMP:20260422T105628
CREATED:20250806T092046Z
LAST-MODIFIED:20260416T064908Z
UID:10000400-1780826400-1780826400@www.rosengarten-mannheim.de
SUMMARY:4. Familienkonzert „Instrumente & Klang“ (ab 6 Jahren) - Mannheimer Philharmoniker
DESCRIPTION:— vom 06.06.2026 verschoben auf den 07.06.2026– \nWas ist eigentlich ein Sinfonieorchester? Wie heißen die ganzen Instrumente auf der Bühne? Und warum winkt der Mann da vorne so begeistert mit? \nGroße und kleine Musikbegeisterte dürfen beim Familienkonzert einmal selbst erleben\, wie spannend Klassik sein kann. Unter der Leitung von Boian Videnoff lernen die Kinder\, warum ein Stück mal heldenhaft\, mal gruselig\, mal traurig und mal lieblich klingt. Unterhaltsam und interaktiv erkunden sie mit dem Orchester\, wie unterschiedlich ein Stück gespielt werden kann\, wie Emotion im Klang entsteht und was es in der Musik so alles rauszuhören und zu entdecken gibt. Dabei dürfen die Kinder auch selbst mitmischen\, ihre Fantasie spielen lassen und zusammen auf die Suche gehen. \nEine kurzweilige Reise in die Welt der Klassik\, in der nicht nur die Kleinen etwas lernen können. \n„Instrumente & Klang“ \nEmpfohlen ab 6 Jahren \nMit viel Freude und Witz erkunden wir die verschiedenen Instrumente und entdecken\, was uns die Musik alles erzählen will. \n  \nEinlass: ab 9:00 Uhr \nDauer: 45 Minuten \n  \nBitte Nutzen Sie den Ticketlink um kostenfreie Tickets zu buchen – Buchbar ab dem 06.03.2026.
URL:https://www.rosengarten-mannheim.de/veranstaltung/2-familienkonzert-instrumente-klang-ab-6-jahren-mannheimer-philharmoniker-kostenfrei-mit-voranmeldung-2
LOCATION:Mu­sen­saal\, Rosengartenplatz 2\, Mannheim\, 68161\, Germany
CATEGORIES:Kulturveranstaltung
ATTACH;FMTTYPE=image/png:https://www.rosengarten-mannheim.de/wp-content/uploads/2025/09/Familienkonzerte-Banner-MCON.png
ORGANIZER;CN="Mannheimer Philharmoniker gGmbH":MAILTO:info@mannheimer-philharmoniker.de
END:VEVENT
BEGIN:VEVENT
DTSTART;TZID=Europe/Berlin:20260607T190000
DTEND;TZID=Europe/Berlin:20260607T190000
DTSTAMP:20260422T105628
CREATED:20250806T092344Z
LAST-MODIFIED:20250820T084127Z
UID:10000401-1780858800-1780858800@www.rosengarten-mannheim.de
SUMMARY:4. Orchesterkonzert: TOSCA - Mannheimer Philharmoniker
DESCRIPTION:Programm \n\n\n\n\nHonegger Pastorale d’été\n\nProkofjew Nussknacker-Suite\nBeethoven Schwanensee-Suite\n\n\n\n\nMitwirkenden \n\nBoian Videnoff\, Dirigent\nKristīne Opolais\, Floria Tosca\nDavide Giusti\, Mario Cavaradossi\n\n\nSimone Piazzola\, Barone Scarpia\n\n\n\n\nDie Metropolitan Oper zu Gast in Mannheim? Fast! Nachdem die Mannheimer Philharmoniker bereits 2024 das Publikum mit einer hochkarätigen Operngala begeisterten\, folgt nun die erste vollständige Opernaufführung des jungen Orchesters. \nAls letztes Konzert in dieser Spielzeit können Sie einem musikalischen Höhepunkt im Mannheimer Musikleben beiwohnen: Tosca mit einer absoluten Starbesetzung! Hören Sie Giacomo Puccinis Meisterwerk in einer hochkarätigen Interpretation und mit einem Solistenensemble der Extraklasse. \nDer Daily Telegraph erklärte Kristine Opolais zur führenden Puccini-Interpretin unserer Zeit. Die gefeierte Sopranistin tritt regelmäßig an den größten internationalen Bühnen auf und sang die Rolle der Flora Tosca unter anderem am Royal Opera House Covent Garden sowie im Festspielhaus Baden-Baden mit den Berliner Philharmonikern unter Simon Rattle. Des Weiteren sang sie an der Metropolitan Opera New York\, der Wiener Staatsoper und der Deutsche Staatsoper Berlin\, der Bayerische Staatsoper\, dem Teatro alla Scala sowie im Opernhaus Zürich. \nDavide Giusti gab 2010 als Ferrando in Mozarts Così fan tutte sein Debüt an der Accademia Nazionale di Santa Cecilia in Rom. Er gastierte seitdem an zahlreichen Opernhäusern\, darunter die Opéra Royal de Wallonie in Liège\, die Opéra de Montpellier\, das Staatstheater Darmstadt\, das Teatro São Carlos in Lissabon\, die Polnische Nationaloper in Warschau\, das Bolshoi-Theater in Moskau und das Staatliche Opern- und Ballett-Theater Perm. \nSimone Piazzola gab im Juli 2008 sein Debüt als Marcello am Teatro La Fenice in Venedig. Nach Erfolgen bei Wettbewerben wie Operalia trat er unter anderem an der Bayerischen Staatsoper\, der Wiener Staatsoper\, der Metropolitan Opera New York\, dem Teatro La Fenice Venedig\, in Berlin\, Madrid und Paris auf. Er arbeitete mit Dirigenten wie Bruno Campanella\, Daniele Callegari und Kazushi Ono. \n\n  \nWerkeinführung \n\nFür alle Interessierten findet am Konzerttag\, um 18:15 Uhr im Musensaal die Werkeinführung mit dem Musikologen Gerrit Bogdahn statt.
URL:https://www.rosengarten-mannheim.de/veranstaltung/4-orchesterkonzert-tosca-mannheimer-philharmoniker
LOCATION:Mu­sen­saal\, Rosengartenplatz 2\, Mannheim\, 68161\, Germany
CATEGORIES:Kulturveranstaltung
ATTACH;FMTTYPE=image/png:https://www.rosengarten-mannheim.de/wp-content/uploads/2025/08/O4-Banner-MCon.png
ORGANIZER;CN="Mannheimer Philharmoniker gGmbH":MAILTO:info@mannheimer-philharmoniker.de
END:VEVENT
BEGIN:VEVENT
DTSTART;TZID=Europe/Berlin:20260611T200000
DTEND;TZID=Europe/Berlin:20260611T200000
DTSTAMP:20260422T105628
CREATED:20250616T111338Z
LAST-MODIFIED:20250616T111338Z
UID:10000339-1781208000-1781208000@www.rosengarten-mannheim.de
SUMMARY:Anne-Sophie Mutter
DESCRIPTION:PROGRAMM\nDARVISHI  „Likoo“ für Violine solo\nPREVIN  Violinkonzert Nr. 2 für Violine & Streichorchester mit zwei Cembalo Interludes\nMOZART  Violinkonzert Nr. 1 B-Dur KV 207\nMOZART  Violinkonzert Nr. 5 A-Dur KV 219 \nVom Wunderkind zur „Königin des Geigenspiels“ – so manches Attribut wurde Anne-Sophie Mutter im Laufe ihrer unvergleichlichen Karriere verliehen. „Da kann man nicht Talent sagen\, sie ist einfach ein Genie“\, mit diesen Worten adelte sie einst Herbert von Karajan. Seit fünf Jahrzehnten prägt Deutschlands größter internationaler Klassik-Star als Solistin\, Mentorin und Visionärin die Musikszene weltweit. Das Repertoire der vierfachen Grammy-Award-Gewinnerin umfasst gleichermaßen traditionelle Meisterwerke wie zeitgenössische Kompositionen – stets auf der Suche nach neuen klanglichen Nuancen und Ausdruckstiefen. \nGemeinsam mit den Berliner Barock Solisten – einem Spitzenensemble\, mit dem sie seit vielen Jahren eng verbunden ist – präsentiert Anne-Sophie Mutter bei Pro Arte im Rosengarten anlässlich ihres 50. Bühnenjubiläums ein spannungsreiches Programm\, das Brücken schlägt: von Mozart über moderne Klangwelten bis hin zu einem sehr persönlichen Werk von André Previn. Im Fokus stehen zwei Herzenswerke der Geigerin: Mozarts Violinkonzert Nr. 1 in B-Dur – ein Stück von spielerischer Eleganz – sowie das berühmte Violinkonzert Nr. 5 in A-Dur KV 219\, das sog.  „Türkische“. Für Anne-Sophie Mutter ein Höhepunkt in Mozarts Schaffen: „Hier experimentiert er mit zahlreichen neuen Ideen. Es ist das kühnste\, vielschichtigste Konzert\, voller abrupter Stimmungswechsel.“ Erleben Sie mit der Star-Geigerin musikalische Sternstunden der Extraklasse! \nFoto (c) Julia Wesley
URL:https://www.rosengarten-mannheim.de/veranstaltung/anne-sophie-mutter
LOCATION:Wolfgang Amadeus Mozart Saal\, Rosengartenplatz 2\, Mannheim\, 68161\, Germany
CATEGORIES:Kulturveranstaltung
ATTACH;FMTTYPE=image/jpeg:https://www.rosengarten-mannheim.de/wp-content/uploads/2025/06/Anne-Sophie-Mutter_Virtuosi_©JuliaWesley-1.jpg
ORGANIZER;CN="Pro Arte Konzert GmbH":MAILTO:info@pro-arte-konzerte.de
END:VEVENT
BEGIN:VEVENT
DTSTART;TZID=Europe/Berlin:20260612T200000
DTEND;TZID=Europe/Berlin:20260612T200000
DTSTAMP:20260422T105628
CREATED:20260119T112617Z
LAST-MODIFIED:20260119T112617Z
UID:10000476-1781294400-1781294400@www.rosengarten-mannheim.de
SUMMARY:RebellComedy - REBELL FOR LIVE!
DESCRIPTION:RebellComedy ist wieder auf Tour! \nDas etablierteste Stand-Up Comedy Ensemble Europas kommt in deine Nähe\, um gegen alles zu rebellieren: Schlechte Laune\, veraltete Denkweisen und politische Korrektheit! \nSeit fast 20 Jahren ziehen die Rebellen durch die großen Hallen in ganz Deutschland\, Österreich und Schweiz-aber sie kriegen niemals genug\, die Zuschauer in Lachkrämpfe zu versetzen\, denn sie sind REBELL FOR LIVE! \nEin unvergesslicher Abend erwartet dich mit den Comedy-Größen Benaissa Lamroubal\, Khalid Bounouar\, Hany Siam\, Salim Samatou\, Ususmango und Babak Ghassim. \nFreu dich auf eine einzigartige Mischung aus Comedy\, tiefgründiger Poetry und bester Musik von einem Live-DJ–und das alles gewürzt mit der Extraportion Überraschung durch Special Guests! Ein rebellischer Abend\, den du nicht verpassen solltest-also gönn dir Tickets!
URL:https://www.rosengarten-mannheim.de/veranstaltung/rebellcomedy-rebell-for-live
LOCATION:Wolfgang Amadeus Mozart Saal\, Rosengartenplatz 2\, Mannheim\, 68161\, Germany
CATEGORIES:Kulturveranstaltung
ATTACH;FMTTYPE=image/webp:https://www.rosengarten-mannheim.de/wp-content/uploads/2024/02/veranstaltungen-header-rosengarten-2024.webp
ORGANIZER;CN="Rebell Comedy Entertainment GmbH":MAILTO:bjoern@rebellcomedy.de
END:VEVENT
BEGIN:VEVENT
DTSTART;VALUE=DATE:20260613
DTEND;VALUE=DATE:20260614
DTSTAMP:20260422T105628
CREATED:20260313T084537Z
LAST-MODIFIED:20260313T084537Z
UID:10000500-1781308800-1781395199@www.rosengarten-mannheim.de
SUMMARY:Selda Bagcan
DESCRIPTION:
URL:https://www.rosengarten-mannheim.de/veranstaltung/selda-bagcan
LOCATION:Mu­sen­saal\, Rosengartenplatz 2\, Mannheim\, 68161\, Germany
CATEGORIES:Kulturveranstaltung
ATTACH;FMTTYPE=image/webp:https://www.rosengarten-mannheim.de/wp-content/uploads/2024/02/m_con_p_30.webp
END:VEVENT
BEGIN:VEVENT
DTSTART;TZID=Europe/Berlin:20260622T200000
DTEND;TZID=Europe/Berlin:20260622T200000
DTSTAMP:20260422T105628
CREATED:20250805T131236Z
LAST-MODIFIED:20250806T094612Z
UID:10000384-1782158400-1782158400@www.rosengarten-mannheim.de
SUMMARY:8. Akademiekonzert der musikalischen Akademie
DESCRIPTION:Das todgeweihte Genie Wolfgang Amadeus Mozart schreibt noch im Krankenbett ein Requiem für sich selbst – um kein anderes Werk der Musikgeschichte ranken sich derart düstere Mythen und Legenden. Die wahren Umstände werden bereits während der Entstehung bewusst verschleiert: Graf Franz von Walsegg ordert bei Mozart eine Totenmesse zum Gedenken an seine verstorbene Frau. Da er das Werk als seine eigene Komposition ausgeben möchte\, lässt er den Auftrag anonym versenden. Doch bevor das Requiem vollendet ist\, stirbt Mozart und hinterlässt seine Familie in finanzieller Not. Um das restliche Honorar zu erhalten\, beauftragt seine Witwe Constanze andere Komponisten mit der Fertigstellung. Schließlich erweitert Mozarts Schüler Franz Xaver Süßmayr die Skizzen zu der heute bekanntesten Fassung. Mit gefälschter Unterschrift wird das vermeintlich von Mozart vollendete Requiem an den Grafen von Walsegg übergeben. Süßmayrs ergänzte und neu komponierte Sätze fügen sich einwandfrei mit dem geheimnisvollen Fragment zu einem großartigen Meisterwerk zusammen. \nZum Abschluss der Saison kombiniert Rinaldo Alessandrini\, Spezialist für historische Aufführungspraxis\, Mozarts Requiem mit dessen 40. Symphonie. Die Umstände der Entstehung und Uraufführung sind ähnlich rätselhaft wie die des Requiems. Ohne Auftrag komponiert Mozart 1788 seine drei letzten Symphonien in weniger als acht Wochen. Durch seinen Umzug in einen Wiener Vorort erhofft er sich Ruhe\, denn er befindet sich in einer beruflich und finanziell schwierigen Lage. Der Charakter der Symphonie wird von der melancholischen g-Moll-Tonart geprägt. Durch ihren leidenschaftlichen Ausdruck\, der bereits im berühmten Anfangsthema spürbar ist\, zeigt sie neben ihrer kompositorischen Komplexität auch eine besondere emotionale Tiefe. \n(Im Rahmen des Mannheimer Sommer 2026) \n\n\n\n\n\n\nWolfgang Amadeus Mozart\n(1756-1791)\nSymphonie Nr. 40 g-Moll KV 550 Requiem KV 626 (ergänzt von Franz Xaver Süßmayr)\n\n  \nRinaldo Alessandrini\nDirigent \nSeunghee Kho\nSopran \nJulia Faylenbogen\nAlt \nSung Min Song\nTenor \nSung Ha\nBass \n  \n\n\n\n\n\n\nEinführungsveranstaltung \nDie Einführungsveranstaltungen finden vor jedem Akademiekonzert um 19:15 Uhr statt. Unsere Moderator*innen besprechen mit den Künstler*innen des Abends die gespielten Werke\, erzählen spannende Anekdoten und plaudern aus dem Nähkästchen der Probenarbeit. \n  \nAprès-concert \nLassen Sie den Konzertabend bei interessanten Begegnungen ausklingen und treffen Sie – bewirtet vom Dorint – unsere Orchestermitglieder\, die Dirigent*innen und Solist*innen nach den Veranstaltungen in der Lounge des Rosengartens.
URL:https://www.rosengarten-mannheim.de/veranstaltung/8-akademiekonzert-der-musikalischen-akademie-3/2026-06-22
LOCATION:Wolfgang Amadeus Mozart Saal\, Rosengartenplatz 2\, Mannheim\, 68161\, Germany
CATEGORIES:Kulturveranstaltung
ATTACH;FMTTYPE=image/webp:https://www.rosengarten-mannheim.de/wp-content/uploads/2024/02/veranstaltungen-musikalische-akademie-header-2024-3.webp
ORGANIZER;CN="Musikalische Akademie des Nationaltheater-Orchesters Mannheim e. V.":MAILTO:service@musikalische-akademie.de
END:VEVENT
BEGIN:VEVENT
DTSTART;TZID=Europe/Berlin:20260623T200000
DTEND;TZID=Europe/Berlin:20260623T200000
DTSTAMP:20260422T105628
CREATED:20250805T131236Z
LAST-MODIFIED:20250806T094612Z
UID:10000385-1782244800-1782244800@www.rosengarten-mannheim.de
SUMMARY:8. Akademiekonzert der musikalischen Akademie
DESCRIPTION:Das todgeweihte Genie Wolfgang Amadeus Mozart schreibt noch im Krankenbett ein Requiem für sich selbst – um kein anderes Werk der Musikgeschichte ranken sich derart düstere Mythen und Legenden. Die wahren Umstände werden bereits während der Entstehung bewusst verschleiert: Graf Franz von Walsegg ordert bei Mozart eine Totenmesse zum Gedenken an seine verstorbene Frau. Da er das Werk als seine eigene Komposition ausgeben möchte\, lässt er den Auftrag anonym versenden. Doch bevor das Requiem vollendet ist\, stirbt Mozart und hinterlässt seine Familie in finanzieller Not. Um das restliche Honorar zu erhalten\, beauftragt seine Witwe Constanze andere Komponisten mit der Fertigstellung. Schließlich erweitert Mozarts Schüler Franz Xaver Süßmayr die Skizzen zu der heute bekanntesten Fassung. Mit gefälschter Unterschrift wird das vermeintlich von Mozart vollendete Requiem an den Grafen von Walsegg übergeben. Süßmayrs ergänzte und neu komponierte Sätze fügen sich einwandfrei mit dem geheimnisvollen Fragment zu einem großartigen Meisterwerk zusammen. \nZum Abschluss der Saison kombiniert Rinaldo Alessandrini\, Spezialist für historische Aufführungspraxis\, Mozarts Requiem mit dessen 40. Symphonie. Die Umstände der Entstehung und Uraufführung sind ähnlich rätselhaft wie die des Requiems. Ohne Auftrag komponiert Mozart 1788 seine drei letzten Symphonien in weniger als acht Wochen. Durch seinen Umzug in einen Wiener Vorort erhofft er sich Ruhe\, denn er befindet sich in einer beruflich und finanziell schwierigen Lage. Der Charakter der Symphonie wird von der melancholischen g-Moll-Tonart geprägt. Durch ihren leidenschaftlichen Ausdruck\, der bereits im berühmten Anfangsthema spürbar ist\, zeigt sie neben ihrer kompositorischen Komplexität auch eine besondere emotionale Tiefe. \n(Im Rahmen des Mannheimer Sommer 2026) \n\n\n\n\n\n\nWolfgang Amadeus Mozart\n(1756-1791)\nSymphonie Nr. 40 g-Moll KV 550 Requiem KV 626 (ergänzt von Franz Xaver Süßmayr)\n\n  \nRinaldo Alessandrini\nDirigent \nSeunghee Kho\nSopran \nJulia Faylenbogen\nAlt \nSung Min Song\nTenor \nSung Ha\nBass \n  \n\n\n\n\n\n\nEinführungsveranstaltung \nDie Einführungsveranstaltungen finden vor jedem Akademiekonzert um 19:15 Uhr statt. Unsere Moderator*innen besprechen mit den Künstler*innen des Abends die gespielten Werke\, erzählen spannende Anekdoten und plaudern aus dem Nähkästchen der Probenarbeit. \n  \nAprès-concert \nLassen Sie den Konzertabend bei interessanten Begegnungen ausklingen und treffen Sie – bewirtet vom Dorint – unsere Orchestermitglieder\, die Dirigent*innen und Solist*innen nach den Veranstaltungen in der Lounge des Rosengartens.
URL:https://www.rosengarten-mannheim.de/veranstaltung/8-akademiekonzert-der-musikalischen-akademie-3/2026-06-23
LOCATION:Wolfgang Amadeus Mozart Saal\, Rosengartenplatz 2\, Mannheim\, 68161\, Germany
CATEGORIES:Kulturveranstaltung
ATTACH;FMTTYPE=image/webp:https://www.rosengarten-mannheim.de/wp-content/uploads/2024/02/veranstaltungen-musikalische-akademie-header-2024-3.webp
ORGANIZER;CN="Musikalische Akademie des Nationaltheater-Orchesters Mannheim e. V.":MAILTO:service@musikalische-akademie.de
END:VEVENT
BEGIN:VEVENT
DTSTART;TZID=Europe/Berlin:20260626T200000
DTEND;TZID=Europe/Berlin:20260626T200000
DTSTAMP:20260422T105628
CREATED:20250414T103946Z
LAST-MODIFIED:20260115T061617Z
UID:10000299-1782504000-1782504000@www.rosengarten-mannheim.de
SUMMARY:Der Bobcast und der Sound der Kindheit: „Die drei ???“-Podcast erneut auf Tour
DESCRIPTION:Andreas Fröhlich und Kai Schwind präsentieren ab Frühjahr 2026 neues Bühnen-Programm \n„Haschimitenfürst – Der Bobcast“ kehrt zurück auf die Bühne – mit einem rundum neuen Live-Programm: „Bob Andrews“-Sprecher Andreas Fröhlich und Hörspielmacher Kai Schwind laden „Die drei ???“-Fans aller Generationen ein\, gemeinsam mit ihnen den „Sound der Kindheit“ zu feiern. \nRecherchen\, Podcast und Archiv: Bob Andrews alias Andreas Fröhlich und Kai Schwind! Das überwältigende Feedback zur ersten Live-Tour hat das eingespielte Talk-Duo des „Die drei ???“-Podcast „Haschimitenfürst – Der Bobcast“ dazu bewegt\, ein neues Bühnen-Programm auf die Beine zu stellen: Am Montag\, 23. Februar 2026 startet „Sound der Kindheit“\, die zweite Live-Tour des Podcast – Phänomens\, die Fans und Freunde auf eine interaktive akustische Erinnerungsreise mitnimmt. \nUnd um welche Folge geht es bei der neuen Live-Tour? Das ist – na klar – die erste Frage\, die sich Fans bei dieser Nachricht stellen. Dabei könnte sie auch lauten: Wird es überhaupt eine Folgenbesprechung im klassischen Sinne geben? Fest steht: Andreas Fröhlich und Kai Schwind nehmen sich nicht nur die Stimmen\, Sprecherinnen und Sprecher der weltweit erfolgreichsten Hörspielserie vor. Auch die Musik sowie ikonische Geräusche des Hörspiellabels EUROPA stehen auf dem Programm der neuen Live-Tour „Sound der Kindheit“. \nNeben den nostalgischen Erinnerungen aller „Kassettenkinder“ im Publikum wird es zusätzlich um den ganz persönlichen „Sound der Kindheit“ der beiden Bobcast-Hosts gehen. Was genau das bedeutet\, bleibt bis zum Tourstart ein Geheimnis. \n„Wir freuen uns riesig auf die Begegnung mit dem Publikum\, so nah dran wie bei den Live-Shows sind wir sonst nie an unseren Hörerinnen und Hörern“\, schwärmt Kai Schwind. „Am Ende jeder Show wird es deshalb wieder eine Fragerunde geben und Antworten auf alles\, was die Gäste schon immer rund um die ‚Die drei ???‘-Hörspiele wissen wollten“\, betont Andreas Fröhlich. \nInsgesamt 19 Shows stehen bereits fest. Die Chemie mit dem Publikum entwickelt sich dabei immer wieder neu. So entsteht an jedem Abend der Live-Tour ein ganz individuelles\, sehr nahbares Programm mit exklusiven Video- und Sound-Einspielern\, lockerem Talk und interaktiven Show-Elementen\, bei denen die Fans und Freunde der Drei ??? stets mittendrin sind. Oder wie Kai Schwind und Andreas Fröhlich es formulieren: „Die Leute kommen auf die Bühne\, wir kommen ins Publikum!“ In Erinnerung an ihre Tour 2024 betonen beide: „Wir hatten mit dem Publikum so viel Spaß auf der ersten Tour – genau das wollen wir einfach wieder erleben.“ \nEinlass eine Stunde vor Beginn
URL:https://www.rosengarten-mannheim.de/veranstaltung/der-bobcast-und-der-sound-der-kindheit-die-drei-podcast-erneut-auf-tour
LOCATION:Mu­sen­saal\, Rosengartenplatz 2\, Mannheim\, 68161\, Germany
CATEGORIES:Kulturveranstaltung
ATTACH;FMTTYPE=image/png:https://www.rosengarten-mannheim.de/wp-content/uploads/2025/04/Bobcast-Live-1181x365_neu.png
ORGANIZER;CN="Konzertb%C3%BCro Schoneberg GmbH":MAILTO:frankfurt@schoneberg.de
END:VEVENT
BEGIN:VEVENT
DTSTART;VALUE=DATE:20260629
DTEND;VALUE=DATE:20260703
DTSTAMP:20260422T105628
CREATED:20260325T063838Z
LAST-MODIFIED:20260326T111142Z
UID:10000503-1782691200-1783036799@www.rosengarten-mannheim.de
SUMMARY:DWX – Developer World Experience 2026
DESCRIPTION:Die DWX – Developer World Experience zählt zu den wichtigsten Konferenzen für professionelle Softwareentwicklung im deutschsprachigen Raum. Vom 29. Juni bis 2. Juli 2026 versammelt das Event im m:con Congress Center Rosengarten in Mannheim mehr als 2.500 Teilnehmer:innen aus der Tech-Community. \nÜber vier Tage hinweg bietet die Konferenz ein umfangreiches Programm mit Sessions\, Workshops und Networking-Events\, gestaltet von internationalen Expert:innen der Branche. Thematisch deckt die DWX zentrale Felder moderner Softwareentwicklung ab – darunter AI\, Cloud\, Web\, .NET\, Softwarearchitektur\, DevOps und moderne Entwicklungsmethoden. \nNeben intensiven Deep-Dive-Workshops und Fachvorträgen steht vor allem der Austausch innerhalb der Community im Mittelpunkt. Developer\, Architekt:innen\, Tech-Entscheider:innen und Technologieanbieter treffen hier aufeinander\, um Best Practices zu teilen\, neue Technologien kennenzulernen und gemeinsam die Zukunft der Softwareentwicklung zu diskutieren. \nDie DWX steht seit über einem Jahrzehnt für hochwertige Inhalte\, starke Community und praxisnahes Wissen – und ist damit ein zentraler Treffpunkt für alle\, die Software nicht nur nutzen\, sondern aktiv gestalten. \nOffizielle Webseite: https://www.developer-world.de/dwx ↗ \n  \n\n  \nDWX – Developer World Experience is one of the leading conferences for professional software development in the German-speaking tech community. From June 29 to July 2\, 2026\, the event brings together more than 2\,500 Developers\, architects and technology decision-makers at the m:con Congress Center Rosengarten in Mannheim\, Germany. \nAcross four days\, the conference offers an extensive program of expert-led sessions\, hands-on workshops and community-driven networking events. The agenda covers key topics shaping modern software development\, including artificial intelligence\, cloud platforms\, web technologies\, .NET\, software architecture\, DevOps and modern engineering practices. \nDWX provides a unique environment where Developers\, architects\, tech leaders and technology providers connect to exchange knowledge\, discuss real-world challenges and explore new approaches to building software. \nFor more than a decade\, DWX has stood for high-quality technical content\, strong community exchange and practical learning—making it a central meeting point for everyone shaping the future of software development. \nOfficial website: https://www.developer-world.com/dwx↗
URL:https://www.rosengarten-mannheim.de/veranstaltung/dwx-developer-world-experience-2026
LOCATION:Congress Center Rosengarten\, Rosengartenplatz 2\, Mannheim\, 68161\, Deutschland
CATEGORIES:Kongress
ATTACH;FMTTYPE=image/jpeg:https://www.rosengarten-mannheim.de/wp-content/uploads/2026/03/DWX26_1350x675px_neu-1.jpg
ORGANIZER;CN="Ebner Media Group GmbH & Co. KG":MAILTO:info@ebnermedia.de
END:VEVENT
END:VCALENDAR