BEGIN:VCALENDAR
VERSION:2.0
PRODID:-//Rosengarten Mannheim - ECPv6.15.20//NONSGML v1.0//EN
CALSCALE:GREGORIAN
METHOD:PUBLISH
X-WR-CALNAME:Rosengarten Mannheim
X-ORIGINAL-URL:https://www.rosengarten-mannheim.de
X-WR-CALDESC:Veranstaltungen für Rosengarten Mannheim
REFRESH-INTERVAL;VALUE=DURATION:PT1H
X-Robots-Tag:noindex
X-PUBLISHED-TTL:PT1H
BEGIN:VTIMEZONE
TZID:Europe/Berlin
BEGIN:DAYLIGHT
TZOFFSETFROM:+0100
TZOFFSETTO:+0200
TZNAME:CEST
DTSTART:20240331T010000
END:DAYLIGHT
BEGIN:STANDARD
TZOFFSETFROM:+0200
TZOFFSETTO:+0100
TZNAME:CET
DTSTART:20241027T010000
END:STANDARD
BEGIN:DAYLIGHT
TZOFFSETFROM:+0100
TZOFFSETTO:+0200
TZNAME:CEST
DTSTART:20250330T010000
END:DAYLIGHT
BEGIN:STANDARD
TZOFFSETFROM:+0200
TZOFFSETTO:+0100
TZNAME:CET
DTSTART:20251026T010000
END:STANDARD
BEGIN:DAYLIGHT
TZOFFSETFROM:+0100
TZOFFSETTO:+0200
TZNAME:CEST
DTSTART:20260329T010000
END:DAYLIGHT
BEGIN:STANDARD
TZOFFSETFROM:+0200
TZOFFSETTO:+0100
TZNAME:CET
DTSTART:20261025T010000
END:STANDARD
END:VTIMEZONE
BEGIN:VEVENT
DTSTART;VALUE=DATE:20250801
DTEND;VALUE=DATE:20250804
DTSTAMP:20260424T174427
CREATED:20250721T124322Z
LAST-MODIFIED:20250721T124429Z
UID:10000356-1754006400-1754265599@www.rosengarten-mannheim.de
SUMMARY:AnimagiC 2025
DESCRIPTION:„You are the MagiC“ – ihr seid die Magie! Unter diesem Motto feiern wir vom 1. bis 3. August unsere 25. AnimagiC mit euch. Wir freuen uns schon sehr\, euch in den kommenden Monaten nach und nach die Highlights vorzustellen. Euch erwartet wie gewohnt ein hochwertiges\, abwechslungsreiches und vielseitiges Programm aus großartigen Music-Acts\, erstklassigen japanischen und deutschsprachigen Ehrengästen\, fantastische Showgruppen\, dem Animotion-Filmfestival mit Premieren-Screenings\, den branchenrelevanten Ausstellern und handverlesenen Händlern – kurz: ein rundum magisches Wochenende für Anime-\, Manga-\, J-Music- und -Culture-Fans! #YouAreTheMagiC \nÖffnungszeiten Tageskasse\nLinkes Eingangsportal des Rosengarten!\nFreitag\, 09.00 Uhr – 21.00 Uhr\nSamstag\, 08.00 Uhr – 19.00 Uhr\nSonntag\, 08.00 Uhr – 17.00 Uhr \n  \nÖffnungszeiten Armbandanlage / Con-Paket-Ausgabe\nRechtes Eingangsportal des Rosengarten (Raum Bruno Schmitz)!\nFreitag\, 08.30 Uhr – 19.00 Uhr *\nSamstag\, 08.00 Uhr – 15.00 Uhr *\nSonntag\, 09.00 Uhr – 13.00 Uhr *\n* danach kann das Armband an der Tageskasse abgeholt werden \n  \nEinlass Rosengarten Achtung: Zutritt nur mit entsprechendem Eintrittsarmband!\nFreitag\, 13.00 Uhr – 01.00 Uhr\nSamstag\, 09.30 Uhr – 01.00 Uhr\nSonntag\, 10.00 Uhr – 18.30 Uhr \n  \nAlle weiteren Infos und das Programm findet ihr auf der offiziellen Website: https://animagic.de/
URL:https://www.rosengarten-mannheim.de/veranstaltung/animagic-2025
LOCATION:Congress Center Rosengarten\, Rosengartenplatz 2\, Mannheim\, 68161\, Deutschland
CATEGORIES:Kulturveranstaltung
ATTACH;FMTTYPE=image/jpeg:https://www.rosengarten-mannheim.de/wp-content/uploads/2025/07/AnimagiC_2025_Startbild.jpg
ORGANIZER;CN="Animagine GmbH":MAILTO:info@animania.de
END:VEVENT
END:VCALENDAR