BEGIN:VCALENDAR
VERSION:2.0
PRODID:-//Rosengarten Mannheim - ECPv6.15.20//NONSGML v1.0//EN
CALSCALE:GREGORIAN
METHOD:PUBLISH
X-WR-CALNAME:Rosengarten Mannheim
X-ORIGINAL-URL:https://www.rosengarten-mannheim.de
X-WR-CALDESC:Veranstaltungen für Rosengarten Mannheim
REFRESH-INTERVAL;VALUE=DURATION:PT1H
X-Robots-Tag:noindex
X-PUBLISHED-TTL:PT1H
BEGIN:VTIMEZONE
TZID:Europe/Berlin
BEGIN:DAYLIGHT
TZOFFSETFROM:+0100
TZOFFSETTO:+0200
TZNAME:CEST
DTSTART:20260329T010000
END:DAYLIGHT
BEGIN:STANDARD
TZOFFSETFROM:+0200
TZOFFSETTO:+0100
TZNAME:CET
DTSTART:20261025T010000
END:STANDARD
BEGIN:DAYLIGHT
TZOFFSETFROM:+0100
TZOFFSETTO:+0200
TZNAME:CEST
DTSTART:20270328T010000
END:DAYLIGHT
BEGIN:STANDARD
TZOFFSETFROM:+0200
TZOFFSETTO:+0100
TZNAME:CET
DTSTART:20271031T010000
END:STANDARD
BEGIN:DAYLIGHT
TZOFFSETFROM:+0100
TZOFFSETTO:+0200
TZNAME:CEST
DTSTART:20280326T010000
END:DAYLIGHT
BEGIN:STANDARD
TZOFFSETFROM:+0200
TZOFFSETTO:+0100
TZNAME:CET
DTSTART:20281029T010000
END:STANDARD
END:VTIMEZONE
BEGIN:VEVENT
DTSTART;TZID=Europe/Berlin:20270109T200000
DTEND;TZID=Europe/Berlin:20270109T200000
DTSTAMP:20260423T104408
CREATED:20260416T090638Z
LAST-MODIFIED:20260416T100126Z
UID:10000526-1799524800-1799524800@www.rosengarten-mannheim.de
SUMMARY:Best of Musicals
DESCRIPTION:Best of Musicals bringt bei der Tour 2026/27 erneut große Musicalmomente live auf die Bühne – in weiteren neuen Städten und ausgewählten Locations in ganz Deutschland.\nDie Show vereint eine Auswahl der schönsten Songs\, bewegendsten Szenen und mitreißendsten Augenblicke aus der Welt des Musicals zu einem abwechslungsreichen und emotionalen Abend. Auf dem Programm stehen Highlights aus weltbekannten Klassikern wie „Der König der Löwen“\, „Tanz der Vampire“ und „Das Phantom der Oper“ ebenso wie Erfolge aus neueren Produktionen wie „Die Eiskönigin“\, „Herkules“ und „The Greatest Showman“. \nImmer wieder neu – jedes Jahr ein bisschen anders.\nEin hochkarätiges Ensemble mit internationaler Bühnenerfahrung begeistert mit starken Stimmen\, großer Ausdruckskraft und beeindruckender Bühnenpräsenz. Doch Best of Musicals ist weit mehr als eine Aneinanderreihung bekannter Songs: Mit charmanten Moderationen\, liebevoll inszenierten Szenen und überraschenden Momenten entsteht ein stimmungsvolles Gesamterlebnis\, das das Publikum aktiv mit einbezieht. Mitfühlen\, Mitlachen und ab und zu Mitsingen und mitmachen sind ausdrücklich erwünscht – hier wird der Theaterabend zu einem gemeinsamen Erlebnis.\nSo entsteht eine besondere Atmosphäre\, in der sich Künstler und Publikum auf Augenhöhe begegnen und der Funke von der Bühne direkt in den Saal überspringt. Jeder Abend wird dadurch einzigartig und bleibt lange in Erinnerung.\nBest of Musicals steht für die Faszination der größten Musicalhits – mitreißend\, emotional\, humorvoll und voller Charme. Ein Abend voller Gänsehaut\, Energie und guter Laune – live und hautnah erlebbar.
URL:https://www.rosengarten-mannheim.de/veranstaltung/best-of-musicals
LOCATION:Wolfgang Amadeus Mozart Saal\, Rosengartenplatz 2\, Mannheim\, 68161\, Germany
CATEGORIES:Kulturveranstaltung
ATTACH;FMTTYPE=image/webp:https://www.rosengarten-mannheim.de/wp-content/uploads/2024/02/m_con_p_30.webp
ORGANIZER;CN="Livemacher GmbH":MAILTO:info@livemacher.de
END:VEVENT
END:VCALENDAR