BEGIN:VCALENDAR
VERSION:2.0
PRODID:-//Rosengarten Mannheim - ECPv6.15.20//NONSGML v1.0//EN
CALSCALE:GREGORIAN
METHOD:PUBLISH
X-ORIGINAL-URL:https://www.rosengarten-mannheim.de
X-WR-CALDESC:Veranstaltungen für Rosengarten Mannheim
REFRESH-INTERVAL;VALUE=DURATION:PT1H
X-Robots-Tag:noindex
X-PUBLISHED-TTL:PT1H
BEGIN:VTIMEZONE
TZID:Europe/Berlin
BEGIN:DAYLIGHT
TZOFFSETFROM:+0100
TZOFFSETTO:+0200
TZNAME:CEST
DTSTART:20240331T010000
END:DAYLIGHT
BEGIN:STANDARD
TZOFFSETFROM:+0200
TZOFFSETTO:+0100
TZNAME:CET
DTSTART:20241027T010000
END:STANDARD
BEGIN:DAYLIGHT
TZOFFSETFROM:+0100
TZOFFSETTO:+0200
TZNAME:CEST
DTSTART:20250330T010000
END:DAYLIGHT
BEGIN:STANDARD
TZOFFSETFROM:+0200
TZOFFSETTO:+0100
TZNAME:CET
DTSTART:20251026T010000
END:STANDARD
BEGIN:DAYLIGHT
TZOFFSETFROM:+0100
TZOFFSETTO:+0200
TZNAME:CEST
DTSTART:20260329T010000
END:DAYLIGHT
BEGIN:STANDARD
TZOFFSETFROM:+0200
TZOFFSETTO:+0100
TZNAME:CET
DTSTART:20261025T010000
END:STANDARD
END:VTIMEZONE
BEGIN:VEVENT
DTSTART;TZID=Europe/Berlin:20250603T100000
DTEND;TZID=Europe/Berlin:20250603T170000
DTSTAMP:20260423T141449
CREATED:20250513T070623Z
LAST-MODIFIED:20250513T071336Z
UID:10000305-1748944800-1748970000@www.rosengarten-mannheim.de
SUMMARY:Karrieretag Mannheim
DESCRIPTION:Ihre Jobmesse in Mannheim – Eintritt frei! \nFinden Sie am Dienstag\, 3. Juni 2025\, Ihren neuen Job beim Karrieretag Mannheim – Location: Congress Center Rosengarten. Fach- und Führungskräfte\, Schüler\, Absolventen\, Quer- und Wiedereinsteiger oder Young Professionals – auf dem Karrieretag Mannheim findet jeder passende Jobangebote und kann direkt vor Ort mit den Personalverantwortlichen der Unternehmen über Einstiegsmöglichkeiten sprechen. Zudem erwartet die Messebesucher von 10 bis 17 Uhr ein umfangreiches und kostenloses Programm mit hilfreichen Tipps rund um die Themen Job\, Jobsuche\, Bewerbung und Karriere. \nDas Programm:\n• CV- und Bewerbungsmappen-Check durch Profis.\n• Bewerbungsfotoshooting mit Profi-Fotograf:innen (kostenlose Mitnahme des Fotos).\n• Karrierecoachings durch erfahrene Spezialisten.\n• Zahlreiche Vorträge rund um die Themen Bewerbung\, Job und Karriere.\n• Top-Speaker:innen zu Gast mit themenbezogenen Vorträgen und Workshops. \nKarrieretag Mannheim. Unverbindlich mit den neuen Kollegen in Kontakt kommen – einfacher geht Jobsuche nicht. \nWeitere Informationen: https://www.karrieretag.org/mannheim/
URL:https://www.rosengarten-mannheim.de/veranstaltung/karrieretag-mannheim-2
LOCATION:Congress Center Rosengarten\, Rosengartenplatz 2\, Mannheim\, 68161\, Deutschland
CATEGORIES:Kongress
ATTACH;FMTTYPE=image/png:https://www.rosengarten-mannheim.de/wp-content/uploads/2025/05/Header-KarrieretagV2.png
ORGANIZER;CN="HR Veranstaltungsgesellschaft mbH & Co. KG":MAILTO:info@karrieretag.org
END:VEVENT
END:VCALENDAR