BEGIN:VCALENDAR
VERSION:2.0
PRODID:-//Rosengarten Mannheim - ECPv6.15.20//NONSGML v1.0//EN
CALSCALE:GREGORIAN
METHOD:PUBLISH
X-ORIGINAL-URL:https://www.rosengarten-mannheim.de
X-WR-CALDESC:Veranstaltungen für Rosengarten Mannheim
REFRESH-INTERVAL;VALUE=DURATION:PT1H
X-Robots-Tag:noindex
X-PUBLISHED-TTL:PT1H
BEGIN:VTIMEZONE
TZID:Europe/Berlin
BEGIN:DAYLIGHT
TZOFFSETFROM:+0100
TZOFFSETTO:+0200
TZNAME:CEST
DTSTART:20250330T010000
END:DAYLIGHT
BEGIN:STANDARD
TZOFFSETFROM:+0200
TZOFFSETTO:+0100
TZNAME:CET
DTSTART:20251026T010000
END:STANDARD
BEGIN:DAYLIGHT
TZOFFSETFROM:+0100
TZOFFSETTO:+0200
TZNAME:CEST
DTSTART:20260329T010000
END:DAYLIGHT
BEGIN:STANDARD
TZOFFSETFROM:+0200
TZOFFSETTO:+0100
TZNAME:CET
DTSTART:20261025T010000
END:STANDARD
BEGIN:DAYLIGHT
TZOFFSETFROM:+0100
TZOFFSETTO:+0200
TZNAME:CEST
DTSTART:20270328T010000
END:DAYLIGHT
BEGIN:STANDARD
TZOFFSETFROM:+0200
TZOFFSETTO:+0100
TZNAME:CET
DTSTART:20271031T010000
END:STANDARD
END:VTIMEZONE
BEGIN:VEVENT
DTSTART;TZID=Europe/Berlin:20260417T193000
DTEND;TZID=Europe/Berlin:20260417T193000
DTSTAMP:20260423T121223
CREATED:20250917T131311Z
LAST-MODIFIED:20260123T070934Z
UID:10000435-1776454200-1776454200@www.rosengarten-mannheim.de
SUMMARY:Ballett CINDERELLA\, Classico Ballet Napoli
DESCRIPTION:Ein zauberhaftes Märchenballett – klassisch\, elegant\, zeitlos \nSeit über einem Jahrhundert zählt das romantische Märchen von Aschenputtel zu den eindrucksvollsten und musikalisch schönsten Werken des klassischen Balletts. \nDas Libretto basiert auf der bekannten Geschichte einer jungen Frau\, deren Anmut und Güte allen Widerständen zum Trotz zu einem märchenhaften Wendepunkt führen. Ihre Begegnung mit dem Prinzen\, die leise wachsende Liebe und die Erfüllung eines lang gehegten Traums bilden den erzählerischen Rahmen – in der Tradition großer klassischer Ballettkunst. \nDas renommierte italienische Ensemble aus der „Wiege des europäischen Tanzes“ präsentiert ein Meisterwerk des Repertoires: sorgfältig bewahrt in seiner klassischen Form\, jedoch kunstvoll verfeinert durch moderne choreografische Nuancen und zeitgenössischen Ausdruck. \nErleben Sie eine Inszenierung von beeindruckender Ästhetik – getragen von höchster tänzerischer Qualität\, stimmungsvollen Bühnenbildern und detailreich gestalteten Kostümen\, die die Magie der Vorlage stilsicher unterstreichen. \nEin Fest für die Sinne – für Liebhaber klassischer Bühnenkunst und jene\, die sich von zeitloser Schönheit berühren lassen möchten.
URL:https://www.rosengarten-mannheim.de/veranstaltung/balett-cinderella
LOCATION:Mu­sen­saal\, Rosengartenplatz 2\, Mannheim\, 68161\, Germany
CATEGORIES:Kulturveranstaltung
ATTACH;FMTTYPE=image/jpeg:https://www.rosengarten-mannheim.de/wp-content/uploads/2025/09/web_cind_2025_32x20_pict-e1769151940268.jpg
ORGANIZER;CN="Friedmann Konzertagentur":MAILTO:info@friedmann-agentur.de
END:VEVENT
END:VCALENDAR