BEGIN:VCALENDAR
VERSION:2.0
PRODID:-//Rosengarten Mannheim - ECPv6.15.20//NONSGML v1.0//EN
CALSCALE:GREGORIAN
METHOD:PUBLISH
X-ORIGINAL-URL:https://www.rosengarten-mannheim.de
X-WR-CALDESC:Veranstaltungen für Rosengarten Mannheim
REFRESH-INTERVAL;VALUE=DURATION:PT1H
X-Robots-Tag:noindex
X-PUBLISHED-TTL:PT1H
BEGIN:VTIMEZONE
TZID:Europe/Berlin
BEGIN:DAYLIGHT
TZOFFSETFROM:+0100
TZOFFSETTO:+0200
TZNAME:CEST
DTSTART:20230326T010000
END:DAYLIGHT
BEGIN:STANDARD
TZOFFSETFROM:+0200
TZOFFSETTO:+0100
TZNAME:CET
DTSTART:20231029T010000
END:STANDARD
BEGIN:DAYLIGHT
TZOFFSETFROM:+0100
TZOFFSETTO:+0200
TZNAME:CEST
DTSTART:20240331T010000
END:DAYLIGHT
BEGIN:STANDARD
TZOFFSETFROM:+0200
TZOFFSETTO:+0100
TZNAME:CET
DTSTART:20241027T010000
END:STANDARD
BEGIN:DAYLIGHT
TZOFFSETFROM:+0100
TZOFFSETTO:+0200
TZNAME:CEST
DTSTART:20250330T010000
END:DAYLIGHT
BEGIN:STANDARD
TZOFFSETFROM:+0200
TZOFFSETTO:+0100
TZNAME:CET
DTSTART:20251026T010000
END:STANDARD
END:VTIMEZONE
BEGIN:VEVENT
DTSTART;VALUE=DATE:20240403
DTEND;VALUE=DATE:20240407
DTSTAMP:20260423T124456
CREATED:20240214T093855Z
LAST-MODIFIED:20240516T134944Z
UID:10000065-1712102400-1712447999@www.rosengarten-mannheim.de
SUMMARY:90. DGK-Jahrestagung
DESCRIPTION:Innovation und Interdisziplinarität in der Kardiovaskulären Medizin\nUnter dem Kongressmotto „Schnittstellen der Kardiovaskulären Medizin“ erwarten Sie auch hier wieder spannende und interdisziplinäre Sitzungen\, ein umfangreiches Nachwuchsförderprogramm der DGK und des DZHK sowie die Highlights der Tagung für die Bereiche Herzinsuffizienz\, Rhythmusstörungen\, Interventioneller und Experimenteller Kardiologie und noch vieles mehr. \nWeitere Informationen finden Sie beim Veranstalter.
URL:https://www.rosengarten-mannheim.de/veranstaltung/90-dgk-jahrestagung
LOCATION:Foye­r­e­be­ne 1\, Rosengartenplatz 2\, Mannheim\, 68161\, Germany
CATEGORIES:Kongress
ATTACH;FMTTYPE=image/webp:https://www.rosengarten-mannheim.de/wp-content/uploads/2024/02/veranstaltungen-dgk-jahrestagung.webp
ORGANIZER;CN="Deutsche Gesellschaft f%C3%BCr Kardiologie %E2%80%93 Herz- und Kreislaufforschung":MAILTO:info@dgk.org
END:VEVENT
END:VCALENDAR