BEGIN:VCALENDAR
VERSION:2.0
PRODID:-//Rosengarten Mannheim - ECPv6.15.20//NONSGML v1.0//EN
CALSCALE:GREGORIAN
METHOD:PUBLISH
X-ORIGINAL-URL:https://www.rosengarten-mannheim.de
X-WR-CALDESC:Veranstaltungen für Rosengarten Mannheim
REFRESH-INTERVAL;VALUE=DURATION:PT1H
X-Robots-Tag:noindex
X-PUBLISHED-TTL:PT1H
BEGIN:VTIMEZONE
TZID:Europe/Berlin
BEGIN:DAYLIGHT
TZOFFSETFROM:+0100
TZOFFSETTO:+0200
TZNAME:CEST
DTSTART:20240331T010000
END:DAYLIGHT
BEGIN:STANDARD
TZOFFSETFROM:+0200
TZOFFSETTO:+0100
TZNAME:CET
DTSTART:20241027T010000
END:STANDARD
BEGIN:DAYLIGHT
TZOFFSETFROM:+0100
TZOFFSETTO:+0200
TZNAME:CEST
DTSTART:20250330T010000
END:DAYLIGHT
BEGIN:STANDARD
TZOFFSETFROM:+0200
TZOFFSETTO:+0100
TZNAME:CET
DTSTART:20251026T010000
END:STANDARD
BEGIN:DAYLIGHT
TZOFFSETFROM:+0100
TZOFFSETTO:+0200
TZNAME:CEST
DTSTART:20260329T010000
END:DAYLIGHT
BEGIN:STANDARD
TZOFFSETFROM:+0200
TZOFFSETTO:+0100
TZNAME:CET
DTSTART:20261025T010000
END:STANDARD
END:VTIMEZONE
BEGIN:VEVENT
DTSTART;TZID=Europe/Berlin:20251211T203000
DTEND;TZID=Europe/Berlin:20251211T203000
DTSTAMP:20260420T120113
CREATED:20250904T084955Z
LAST-MODIFIED:20250904T084955Z
UID:10000407-1765485000-1765485000@www.rosengarten-mannheim.de
SUMMARY:Enis Bešlagić - DA SAM JA NEKO
DESCRIPTION:“DA SAM JA NEKO” je samo jedan put i jedan odabir onoga što ja jesam danas. Ono što me vodi i da podijelim svoju priču sa svima vama koji gledate srcem. \nNa svoj način pričam vam ono što ne vidite iza medijske scene… Ovo je jedno lijepo druženje uz mnogo raznih i iskrenih emocija\, koje ćemo podijeliti zajedno. \nPreporučuje se za sve generacije i uzraste\, osim za djecu mlađu od tri godine \n  \n(DE: „WENN ICH JEMAND WÄRE“ ist nur ein Weg und eine Entscheidung\, wer ich heute bin. Was mich dazu bringt\, meine Geschichte mit euch allen zu teilen\, die ihr mit eurem Herzen zuschaut. Auf meine Art erzähle ich euch\, was ihr hinter den Kulissen der Medien nicht seht … Dies ist ein schönes Treffen mit vielen unterschiedlichen und aufrichtigen Emotionen\, die wir gemeinsam teilen werden. Empfohlen für alle Generationen und Altersgruppen\, außer für Kinder unter drei Jahren)
URL:https://www.rosengarten-mannheim.de/veranstaltung/enis-beslagic-da-sam-ja-neko
LOCATION:Congress Center Rosengarten\, Rosengartenplatz 2\, Mannheim\, 68161\, Deutschland
ATTACH;FMTTYPE=image/webp:https://www.rosengarten-mannheim.de/wp-content/uploads/2025/09/thumb1920_enis-beslagic-da-sam-ja-neko-mannheim-x650-1744448638831.webp
END:VEVENT
END:VCALENDAR